BEGIN:VCALENDAR
VERSION:2.0
PRODID:-//Indy Chamber - ECPv6.15.20//NONSGML v1.0//EN
CALSCALE:GREGORIAN
METHOD:PUBLISH
X-ORIGINAL-URL:https://indychamber.com
X-WR-CALDESC:Events for Indy Chamber
REFRESH-INTERVAL;VALUE=DURATION:PT1H
X-Robots-Tag:noindex
X-PUBLISHED-TTL:PT1H
BEGIN:VTIMEZONE
TZID:America/Indiana/Indianapolis
BEGIN:DAYLIGHT
TZOFFSETFROM:-0500
TZOFFSETTO:-0400
TZNAME:EDT
DTSTART:20220313T070000
END:DAYLIGHT
BEGIN:STANDARD
TZOFFSETFROM:-0400
TZOFFSETTO:-0500
TZNAME:EST
DTSTART:20221106T060000
END:STANDARD
BEGIN:DAYLIGHT
TZOFFSETFROM:-0500
TZOFFSETTO:-0400
TZNAME:EDT
DTSTART:20230312T070000
END:DAYLIGHT
BEGIN:STANDARD
TZOFFSETFROM:-0400
TZOFFSETTO:-0500
TZNAME:EST
DTSTART:20231105T060000
END:STANDARD
BEGIN:DAYLIGHT
TZOFFSETFROM:-0500
TZOFFSETTO:-0400
TZNAME:EDT
DTSTART:20240310T070000
END:DAYLIGHT
BEGIN:STANDARD
TZOFFSETFROM:-0400
TZOFFSETTO:-0500
TZNAME:EST
DTSTART:20241103T060000
END:STANDARD
END:VTIMEZONE
BEGIN:VEVENT
DTSTART;TZID=America/Indiana/Indianapolis:20230802T100000
DTEND;TZID=America/Indiana/Indianapolis:20230802T110000
DTSTAMP:20260422T113811
CREATED:20230427T102647Z
LAST-MODIFIED:20230427T102647Z
UID:10000050-1690970400-1690974000@indychamber.com
SUMMARY:Member Orientation
DESCRIPTION:Jumpstart or re-start your Indy Chamber membership.  \nWe’ll provide an overview of the Indy Chamber\, information on how best to leverage your benefits\, and networking tips to help you be strategic and successful while making business connections in the nine-county region. Who should attend? Executive team\, marketing\, sales\, HR professionals\, and anyone who wants to support growth – yours and our region’s.
URL:https://indychamber.com/event/august-member-orientation/
LOCATION:Cards
CATEGORIES:Members Only,Virtual Event
ATTACH;FMTTYPE=:
END:VEVENT
BEGIN:VEVENT
DTSTART;TZID=America/Indiana/Indianapolis:20230808T130000
DTEND;TZID=America/Indiana/Indianapolis:20230808T140000
DTSTAMP:20260422T113811
CREATED:20230627T100912Z
LAST-MODIFIED:20230627T100912Z
UID:10000061-1691499600-1691503200@indychamber.com
SUMMARY:Business Ownership 101
DESCRIPTION:The Business Ownership 101 workshop\, conducted in partnership with Ivy Tech Community College\, outlines four critical stages of business development with a focus on customer relations and market research\, and operations and cash flow management. It will help shape your business idea\, share a variety of resources in each stage\, and create next steps needed to launch and/or grow. The workshop will also give you time to ask questions and learn from others who are looking to launch a business. \nThis is the first step on your path to becoming a successful business owner!
URL:https://indychamber.com/event/business-ownership-101-6/
LOCATION:Cards
CATEGORIES:Virtual Event,Workshop
ATTACH;FMTTYPE=:
END:VEVENT
BEGIN:VEVENT
DTSTART;TZID=America/Indiana/Indianapolis:20230809T170000
DTEND;TZID=America/Indiana/Indianapolis:20230809T193000
DTSTAMP:20260422T113811
CREATED:20230627T101259Z
LAST-MODIFIED:20230627T101259Z
UID:10000062-1691600400-1691609400@indychamber.com
SUMMARY:CEO Roundtable Dinner
DESCRIPTION:CEOs meet with other growth-minded peers from the Indianapolis business community at this exclusive event to share their experiences\, gain diverse insights\, and have important conversations over dinner.  \nMany communities are directing efforts into renewing downtown areas and restoring them to their former prominence as a hub of community activity—and Indianapolis is no exception. On Aug. 9\, Eric Gershman\, a Principal of Gershman Partners\, will join us to discuss the revitalization of downtown\, sharing his expertise on what bringing people back to the office and back downtown means for the strength of the regional economy. Aletha Dunston\, Director of Indianapolis Economic Development at Develop Indy\, will moderate the conversation. \nRegistration for this event is by invitation ONLY\, and invitations are non-transferable. Pre-registration is required. \n  \n\n  \nAbout CEO Roundtable \nCEO Roundtable events were created exclusively for CEOs of Indy Chamber members at our elite membership levels — Signature\, Private 100\, Commercial Club\, and Leadership Circle membership. If you’d like to speak with a sales representative to upgrade your membership to attend CEO Roundtable events\, please reach out to Tonya Varvel at tvarvel@indychamber.com today.
URL:https://indychamber.com/event/ceo-roundtable-dinner-3/
LOCATION:The Fountain Room\, 830 Massachusetts Ave.\, Suite 1480\, Indianapolis\, IN\, 46204
CATEGORIES:Invitation Only,Members Only
ATTACH;FMTTYPE=:
END:VEVENT
BEGIN:VEVENT
DTSTART;TZID=America/Indiana/Indianapolis:20230815T083000
DTEND;TZID=America/Indiana/Indianapolis:20230815T100000
DTSTAMP:20260422T113811
CREATED:20230427T103552Z
LAST-MODIFIED:20230427T103552Z
UID:10000056-1692088200-1692093600@indychamber.com
SUMMARY:Top Investor Breakfast
DESCRIPTION:Exclusive to our Top Investor members\, these events offer business leaders an opportunity to gather and discuss topics impacting their businesses. Stakeholders from across the Indy region are invited to take a deeper dive into the initiatives of the Indy Chamber impacting the future of our community.   \nWith more than $9 billion of development in the pipeline and a revitalized tourism industry\, Indianapolis will see record investment over the next few years. In the meantime\, downtown needs to evolve to respond to the impacts of remote work flexibility and safety perceptions. \nOn Aug. 15\, you are invited to join us for a conversation with Adam Burtner\, Aletha Dunston\, and Taylor Hughes as they discuss solutions like the economic enhancement district (EED)\, a Housing Hub with an emergency low barrier shelter component\, the building conversion pipeline\, and what each means for the vitality of downtown Indianapolis. \nRegistration for this event is by invitation ONLY\, and invitations are non-transferable. \n  \n\n  \nAbout Top Investor \nTop Investor events were created exclusively for Indy Chamber members at our premium membership levels – Gold membership or higher. If you’d like to speak with a sales representative to upgrade your membership to attend Top Investor events\, please reach out to Tonya Varvel at tvarvel@indychamber.com today. 
URL:https://indychamber.com/event/top-investor-breakfast-3/
LOCATION:Button Style
CATEGORIES:Invitation Only,Members Only
ATTACH;FMTTYPE=:
END:VEVENT
BEGIN:VEVENT
DTSTART;TZID=America/Indiana/Indianapolis:20230816T100000
DTEND;TZID=America/Indiana/Indianapolis:20230816T110000
DTSTAMP:20260422T113811
CREATED:20230627T101739Z
LAST-MODIFIED:20250326T110400Z
UID:10000063-1692180000-1692183600@indychamber.com
SUMMARY:Top Investor Updates & Orientation
DESCRIPTION:Jumpstart or re-start your Indy Chamber membership.  \nWe’ll provide an overview of the Indy Chamber\, information on how best to leverage your benefits\, and important regional updates to help you be strategic and successful while making business connections in the nine-county region.  \nRegistration for this event is by invitation ONLY\, and invitations are non-transferable. \n  \n\n  \nAbout Top Investor \nTop Investor events were created exclusively for Indy Chamber members at our premium membership levels – Gold membership or higher. If you’d like to speak with a sales representative to upgrade your membership to attend Top Investor events\, please reach out to Tonya Varvel at tvarvel@indychamber.com today. 
URL:https://indychamber.com/event/top-investor-updates-orientation-3/
LOCATION:Cards
CATEGORIES:Invitation Only,Members Only,Virtual Event
END:VEVENT
BEGIN:VEVENT
DTSTART;TZID=America/Indiana/Indianapolis:20230816T160000
DTEND;TZID=America/Indiana/Indianapolis:20230816T180000
DTSTAMP:20260422T113811
CREATED:20230427T101823Z
LAST-MODIFIED:20230427T101823Z
UID:10000046-1692201600-1692208800@indychamber.com
SUMMARY:Conexión + Women in Business Series: The Art of Business
DESCRIPTION:The Indy Chamber’s Central Indiana Women’s Business Center and the Hispanic Business Council are joining forces to expand their impact across the Indy Region. \nDesigned for artists who want to start\, grow or scale their businesses\, or individuals with a passion for the arts\, this event will focus on strengthening the business network of the creative and artistic community. Get access to business resources\, learn about small business training and financing options\, and network with your fellow creatives. No matter where you are in the process\, we’ve got the tools you’ll need to get there. \n \n  \n  \n  \n  \n  \n  \nPlus\, hear from three Indianapolis-area creatives as they share their individual business journeys and how you can plug in to support the creative community as a whole. Join us for networking\, cocktails\, and opportunity by registering today!
URL:https://indychamber.com/event/conexion-women-in-business/
LOCATION:Murat Shriners – Tunisian Room\, 510 N New Jersey St.\, Indianapolis\, IN\, 46204
CATEGORIES:Hispanic Business,Women in Business
END:VEVENT
BEGIN:VEVENT
DTSTART;TZID=America/Indiana/Indianapolis:20230817T090000
DTEND;TZID=America/Indiana/Indianapolis:20230817T100000
DTSTAMP:20260422T113811
CREATED:20230427T101331Z
LAST-MODIFIED:20230427T101331Z
UID:10000045-1692262800-1692266400@indychamber.com
SUMMARY:Coffee with the President
DESCRIPTION:Kick off your Thursday morning in style with this exclusive opportunity to virtually meet Indy Chamber leadership team members and other attendees for an informal conversation over coffee. Network with fellow business leaders in the Indianapolis region and learn how an Indy Chamber membership can impact your business.  \nRegistration for this event is by invitation ONLY. Limited space is available. If you’d like to speak with a sales representative to attend Coffee with the President sessions\, please reach out to Tonya Varvel at tvarvel@indychamber.com today.  \nThank you to our food sponsor:
URL:https://indychamber.com/event/coffee-with-the-president-2/
LOCATION:Content
CATEGORIES:Invitation Only
ATTACH;FMTTYPE=:
END:VEVENT
BEGIN:VEVENT
DTSTART;TZID=America/Indiana/Indianapolis:20230818T083000
DTEND;TZID=America/Indiana/Indianapolis:20230818T100000
DTSTAMP:20260422T113811
CREATED:20230627T102049Z
LAST-MODIFIED:20230627T102049Z
UID:10000064-1692347400-1692352800@indychamber.com
SUMMARY:Spotlight On...Whitestown
DESCRIPTION:The Spotlight On…Series\, presented by Duke Energy\, was created to help attendees get to know the communities of the Indy region. Each installment showcases a different community within Indy’s nine-county region\, shares key happenings\, and connects priority projects across community lines. \nThe Indy Chamber invites you to the next installment of this event\, the Spotlight On…Whitestown\, featuring Town Council Vice President Clinton Bohm. \nThe Spotlight On…Whitestown takes place in person from 8:30 to 10 a.m. in partnership with the Boone County­­ Economic Development Corporation. We invite you to arrive early to participate in opening networking and enjoy a continental breakfast before the conversation begins at 9 a.m. \nPre-registration required. Limited space is available.
URL:https://indychamber.com/event/spotlight-on-whitestown/
LOCATION:The Cardinal Room at Golf Club of Indiana\, 6905 S 525 E\, Lebanon\, IN\, 46052
CATEGORIES:Economic Development
END:VEVENT
BEGIN:VEVENT
DTSTART;TZID=America/Indiana/Indianapolis:20230824T150000
DTEND;TZID=America/Indiana/Indianapolis:20230824T180000
DTSTAMP:20260422T113811
CREATED:20230427T100016Z
LAST-MODIFIED:20230427T100016Z
UID:10000035-1692889200-1692900000@indychamber.com
SUMMARY:BEI Procurement Roundtable Supplier Meet & Greet
DESCRIPTION:You are warmly invited to our next installment of Business Equity for Indy (BEI) Procurement Roundtable Supplier Meet & Greet. Join us for networking\, food\, and opportunities to strengthen your supplier diversity. The workshop is free for businesses of all sizes to attend and takes place in person at the Madam Walker Legacy Center (Madam Walker Theatre) on Thursday\, August 24\, from 3 to 6 p.m. \nThe Business Equity for Indy (BEI) Procurement Roundtable is focused on increasing the launch\, growth\, and success rates of Black-owned enterprises by facilitating relationships\, creating opportunities\, and positioning suppliers to gain access to new business contracts. This in-person event will feature Black-owned suppliers who will briefly give a presentation of their business. \nMeet & Greet supplier businesses include: \n\nAll Things Handy LLC\nDiversity Press\nEntourage Cleaning Services LLC\nSheer Elegance Draperies\, Blinds & More LLC\nTikur Solutions\n\nFollowing\, attendees will have an opportunity to further engage suppliers and network with all attendees – so bring your business cards! Light refreshments\, wine\, and soda will be served. Join the BEI Procurement Roundtable for networking\, food\, and opportunity by registering today. \n\n  \nInterested in learning more? \nThe BEI partners are currently developing several additional opportunities for organizations to join the effort to advance racial equity across the Indy Region. If Procurement & Participation is not your preferred area at this time\, or if you would be interested in additional opportunities to engage with BEI\, please contact Stacia Murphy or Taylor Hughes. 
URL:https://indychamber.com/event/bei-procurement-roundtable-supplier-meet-greet-3/
LOCATION:Madam Walker Legacy Center\, 617 Indiana Ave\, Indianapolis\, IN\, 46202\, United States
CATEGORIES:Business Equity for Indy
ATTACH;FMTTYPE=:
END:VEVENT
BEGIN:VEVENT
DTSTART;TZID=America/Indiana/Indianapolis:20230828T113000
DTEND;TZID=America/Indiana/Indianapolis:20230828T130000
DTSTAMP:20260422T113811
CREATED:20230427T100441Z
LAST-MODIFIED:20230427T100441Z
UID:10000037-1693222200-1693227600@indychamber.com
SUMMARY:Breakthrough Selling
DESCRIPTION:Are you on the hunt for sustained sales momentum? If you answered yes\, then we have just the training for you! Join the Indy Chamber and Trustpointe for lunch and an opportunity to improve processes\, personal performance\, and results to become the high-achieving sales professional you’ve been striving to be.  \nAUGUST TOPIC: People Are Like Books—They’re Readable \nFace language is more important than body language. “Reading the situation” is a critical sales competency. Far too many salespeople come up short in the category. In this Breakthrough session\, the Trustpointe team will demonstrate how they read situations and people. You’ll leave much more mindful of the concept of face language and what you can do with it in your next face-to-face or Zoom call. The results are powerful – you’ll develop rapport much more quickly and have the ability to challenge\, or gain clarity\, on facial micro-expressions.  \nIf your prospects ghost you or stretch the selling cycle out\, there’s a solid chance that you’re not reading the situation as well as you could. You’ll laugh\, learn\, and read more during this one!
URL:https://indychamber.com/event/breakthrough-selling-5/
LOCATION:Items
CATEGORIES:Members Only,Workshop
ATTACH;FMTTYPE=:
END:VEVENT
BEGIN:VEVENT
DTSTART;TZID=America/Indiana/Indianapolis:20230829T130000
DTEND;TZID=America/Indiana/Indianapolis:20230829T140000
DTSTAMP:20260422T113811
CREATED:20230803T101141Z
LAST-MODIFIED:20230803T101141Z
UID:10000217-1693314000-1693317600@indychamber.com
SUMMARY:Indy Chamber Masterclass
DESCRIPTION:The Indy Chamber has a free\, three-part event series that equips entrepreneurs and small business owners with the resources they need to tell their stories. Indy Chamber Masterclasses will take place in June\, August\, and October with three different—and free—opportunities for business leaders to lean into their brands. \n  \nPART TWO: To Make a Statement or Not to Make a Statement\, that is THE Question\nA situation across the country makes national news\, and a few of your clients/customers ask what your company’s position is on the matter. An unrelated situation occurs locally\, and your employees ask if you plan to make a statement. A few business leaders are in trouble for misdeeds\, and the media asks if this is a trend on which you want to comment. \nTo make a statement or not to make a statement: that is THE question on many business leaders’ minds these days. There are no easy answers or silver bullets\, but there are some communications learnings we all can use to make those decisions faster and less stressful. \nJoin us for a conversation with Jennifer Dzwonar of Borshoff on why\, when\, how\, and why NOT to make a statement\, and please bring your thoughts and questions. Join us virtually on Tuesday\, August 29 from 1-2 p.m. Register to secure your spot\, today!
URL:https://indychamber.com/event/indy-chamber-masterclass-2/
LOCATION:Cards
CATEGORIES:Workshop
ATTACH;FMTTYPE=image/jpeg:https://indychamber.com/wp-content/uploads/2023/06/MMM-1-2.jpg
END:VEVENT
BEGIN:VEVENT
DTSTART;TZID=America/Indiana/Indianapolis:20230830T170000
DTEND;TZID=America/Indiana/Indianapolis:20230830T203000
DTSTAMP:20260422T113811
CREATED:20230427T095534Z
LAST-MODIFIED:20230427T095534Z
UID:10000033-1693414800-1693427400@indychamber.com
SUMMARY:SOLD OUT: 2023 HobNob
DESCRIPTION:2023 HOBNOB IS SOLD OUT. DUE TO CAPACITY LIMITS SET BY THE VENUE\, WALK-INS WILL NOT BE ACCOMMODATED. THANK YOU FOR UNDERSTANDING!\n  \n\n\n\n\n2023 HOBNOB \nTHE BIGGEST POLITICAL PARTY OF THE YEAR\n\nJoin the Indy Chamber Advocacy team for Indy’s biggest political party of the year! That’s right—HobNob is returning to the Columbia Club on Monument Circle on Wednesday\, Aug. 30. \n\n\nTickets are now on sale with both member ($35) and non-member ($50) pricing options. All HobNob attendees will hear from our Indianapolis mayoral candidates\, enjoy complimentary refreshments\, and rub elbows with party leaders and candidates alike. Last year\, HobNob had more than 500 registrants; let’s double it ahead of a pivotal 2023 election season!
URL:https://indychamber.com/event/2023-hobnob/
LOCATION:Button Style
CATEGORIES:Policy and Advocacy,Signature Event
ATTACH;FMTTYPE=:
END:VEVENT
END:VCALENDAR