BEGIN:VCALENDAR
VERSION:2.0
PRODID:-//Indy Chamber - ECPv6.15.20//NONSGML v1.0//EN
CALSCALE:GREGORIAN
METHOD:PUBLISH
X-ORIGINAL-URL:https://indychamber.com
X-WR-CALDESC:Events for Indy Chamber
REFRESH-INTERVAL;VALUE=DURATION:PT1H
X-Robots-Tag:noindex
X-PUBLISHED-TTL:PT1H
BEGIN:VTIMEZONE
TZID:America/Indiana/Indianapolis
BEGIN:DAYLIGHT
TZOFFSETFROM:-0500
TZOFFSETTO:-0400
TZNAME:EDT
DTSTART:20220313T070000
END:DAYLIGHT
BEGIN:STANDARD
TZOFFSETFROM:-0400
TZOFFSETTO:-0500
TZNAME:EST
DTSTART:20221106T060000
END:STANDARD
BEGIN:DAYLIGHT
TZOFFSETFROM:-0500
TZOFFSETTO:-0400
TZNAME:EDT
DTSTART:20230312T070000
END:DAYLIGHT
BEGIN:STANDARD
TZOFFSETFROM:-0400
TZOFFSETTO:-0500
TZNAME:EST
DTSTART:20231105T060000
END:STANDARD
BEGIN:DAYLIGHT
TZOFFSETFROM:-0500
TZOFFSETTO:-0400
TZNAME:EDT
DTSTART:20240310T070000
END:DAYLIGHT
BEGIN:STANDARD
TZOFFSETFROM:-0400
TZOFFSETTO:-0500
TZNAME:EST
DTSTART:20241103T060000
END:STANDARD
END:VTIMEZONE
BEGIN:VEVENT
DTSTART;TZID=America/Indiana/Indianapolis:20230316T083000
DTEND;TZID=America/Indiana/Indianapolis:20230316T100000
DTSTAMP:20260424T101848
CREATED:20230627T150530Z
LAST-MODIFIED:20230627T150530Z
UID:10000070-1678955400-1678960800@indychamber.com
SUMMARY:Top Investor Breakfast
DESCRIPTION:Exclusive to our Top Investor members\, these events offer business leaders an opportunity to gather and discuss topics impacting their businesses. Stakeholders from across the Indy region are invited to take a deeper dive into the initiatives of the Indy Chamber impacting the future of our community.   \nTop Investor events were created exclusively for Indy Chamber members at our premium membership levels – gold membership or higher.   \nRegistration for this event is by invitation ONLY\, and invitations are non-transferable. If you’d like to speak with a sales representative to upgrade your membership to attend Top Investor events\, please reach out to our team today. 
URL:https://indychamber.com/event/top-investor-breakfast-4/
LOCATION:Button Style
ATTACH;FMTTYPE=:
END:VEVENT
BEGIN:VEVENT
DTSTART;TZID=America/Indiana/Indianapolis:20230317T090000
DTEND;TZID=America/Indiana/Indianapolis:20230317T100000
DTSTAMP:20260424T101848
CREATED:20230627T150339Z
LAST-MODIFIED:20230627T150339Z
UID:10000069-1679043600-1679047200@indychamber.com
SUMMARY:Powernet
DESCRIPTION:Speed networking for businesses.  \nAre you ready to connect with 15-20 members in one short hour? Powernet is a high-speed\, high-quality virtual speed networking event hosted by our Indy Chamber Ambassadors. It’s the perfect opportunity to share your business story and make connections with potential clients and partners!  \nPLEASE NOTE: Powernet starts at 9 a.m. You must be on time to participate due to the breakout rooms we create for networking. The first breakout session will begin promptly at 9:05 a.m. If you are late\, you may either wait until the second breakout room begins or choose to join us next month. Thank you for your cooperation and understanding.  \n  \nThis event is exclusive to Indy Chamber members ONLY. 
URL:https://indychamber.com/event/powernet-3/
LOCATION:Cards
ATTACH;FMTTYPE=:
END:VEVENT
BEGIN:VEVENT
DTSTART;TZID=America/Indiana/Indianapolis:20230320T130000
DTEND;TZID=America/Indiana/Indianapolis:20230320T140000
DTSTAMP:20260424T101848
CREATED:20230627T150233Z
LAST-MODIFIED:20230627T150233Z
UID:10000068-1679317200-1679320800@indychamber.com
SUMMARY:Accelerate Indy Investor Call
DESCRIPTION:Just announced\, the City of Indianapolis\, in partnership with Mayor Hogsett\, Representative Andre Carson\, Indy Chamber\, and Rethink 65/70\, received a $2 million grant from the US Department of Transportation. This award will fund the Reconnecting Communities Planning Study to evaluate the redevelopment of the I-65/70 Inner Loop\, a project that promises to be catalytic for the State of Indiana\, Governor Eric Holcomb\, Senator Mike Braun\, and Senator Todd Young. The concept of recessed highways connecting our neighborhoods is a direct result of the Accelerate Indy Collaboratory\, a forum to accelerate transformational thinking and investment in our region. \nAs this study begins\, we invite you to learn more and get engaged in the planning process. Join Indy Chamber and Taylor Hughes\, vice president of policy and strategy\, for a virtual investor call to learn more about the study\, ask questions\, and find out why a connected downtown has the potential to transform our city. \n  \nThis event was created exclusively for Accelerate Indy investors. Interested in learning more about Accelerate Indy strategy? Contact Sarah Iglehart\, Senior Vice President of Regional Economic Development\, at siglehart@indychamber.com. Interested in investing in Accelerate Indy? Contact Blake Roebuck\, Vice President of Corporate Relations\, at broebuck@indychamber.com.
URL:https://indychamber.com/event/accelerate-indy-investor-call/
LOCATION:Cards
ATTACH;FMTTYPE=:
END:VEVENT
BEGIN:VEVENT
DTSTART;TZID=America/Indiana/Indianapolis:20230321T180000
DTEND;TZID=America/Indiana/Indianapolis:20230321T200000
DTSTAMP:20260424T101848
CREATED:20230627T145641Z
LAST-MODIFIED:20230627T145641Z
UID:10000067-1679421600-1679428800@indychamber.com
SUMMARY:Let's Talk All Things Credit
DESCRIPTION:Personal credit. Business credit. No topics are off-limits. Join Bankable and the Indy Chamber’s Business Ownership Initiative (BOI)\, and let’s talk all things credit. Attendees are encouraged to bring their questions. Registration is required; however\, this event is free to attend and refreshments will be served. Limited seats are available\, we encourage attendees to register as soon as possible. \nSpecial thanks to SHE. Event and SHE.Xperience Shoppes for hosting this event!
URL:https://indychamber.com/event/lets-talk-all-things-credit/
LOCATION:SHE. Event Indy Co\, Sheexperience Shoppes\, 838 N. Delaware Street\, Indianapolis\, IN\, United States
ATTACH;FMTTYPE=:
END:VEVENT
BEGIN:VEVENT
DTSTART;TZID=America/Indiana/Indianapolis:20230323T080000
DTEND;TZID=America/Indiana/Indianapolis:20230324T170000
DTSTAMP:20260424T101848
CREATED:20230627T145314Z
LAST-MODIFIED:20230627T145314Z
UID:10000066-1679558400-1679677200@indychamber.com
SUMMARY:2023 Women in Business Retreat
DESCRIPTION:The Women in Business Retreat is back! Looking to meet and hear from women leaders\, entrepreneurs\, and professionals? Then this event is for you. Whether you’re local\, new to town\, or just passing through\, join us at our 2023 Women in Business Retreat\, presented by Hirons\, to connect\, learn\, and recharge. The Retreat will be in-person at the Alexander Hotel and is a great way for women from all professional backgrounds to escape their hectic life and learn from one another\, share successes\, laugh\, network\, and strategize about what comes next. \nFrom networking to breakout sessions\, you’ll have the opportunity to engage with some of the brightest\, most inspirational\, thought-provoking women in the Indianapolis Region. \nYour Retreat ticket also includes: \n\nProfessional headshots\nMeals and snacks throughout the day\nSilent auction\nCocktail reception\nLocal vendor fair\nWine pull\n\n  \nTentative Agenda: \nTHURSDAY\, MARCH 23\n8 a.m. — Check-in & Breakfast\n8:30 a.m. — Welcome Remarks with Althea Cooper\, CIWBC Council Chair\n8:40 a.m. — PLENARY: What It Takes to Shatter the Glass with Jessica Gendron\, The Center for Leadership Excellence\n9:40 a.m. — BREAK\n10 a.m. — PLENARY: Best Practices for Implementing Diversity\, Equity\, and Inclusion with Holli Harrington\, Indianapolis International Airport\, and Stacia Murphy\, Indy Chamber\n11 a.m. — Vendor Fair & Headshots\n12 p.m. — KEYNOTE LUNCHEON: Solidarity! Women Supporting Women at Work with Tamara Winfrey-Harris\, Women’s Fund of Central Indiana\n1:30 p.m. — BREAK\n2 p.m. — BREAKOUT SESSION \n\nSession A: Survival 101: A Journey in Self-Awareness and Significance with Felicia Martin\, NCAA\nSession B: Nurture Your Network with Althea Cooper\, Old National Bank\, and Melanie Raney\, AES Indiana\n\n3:15 p.m. — BREAK\n3:35 p.m. — PLENARY: Switching off Survival Mode with Tiffany Atkinson\, Tiffany Atkinson Consulting\n5 p.m. — Cocktail Reception\n6:30 p.m. — Dine-Arounds\n9 p.m. — After Dinner Drinks @ Plat 99 \nFRIDAY\, MARCH 24\n9 a.m. — BREAKOUT SESSION: \n\nSession A: Using Social Media to Boost Your Business with Mary Beth Oakes\, Business Furniture + Choreo\nSession B: Finding the Power in Your Pack with Katina Washington\, SHE Event Indy Co.\n\n10:15 a.m. — Vendor Fair & Headshots\n11 a.m. — BREAKOUT SESSION: \n\nSession A: Making Sense of Your Financial Health with Rebekah Payne\, MCM CPAs & Advisors LLP\nSession B: Cultivating Community by Giving Back with Amanda Medlen\, IDO Incorporated\, Jackie Morales\, Morales Group\, and Janine Betsey\, Gene B. Glick Company\n\n12:15 p.m. — BREAK\n12:30 p.m. — KEYNOTE LUNCHEON: Turning Stress Into Success with Dr. Alicia Mckoy\, Peak Mind \n  \nAbout CIWBC: \nThe Indy Chamber’s mission is to empower businesses to ensure all have the opportunity to succeed in the Indianapolis region. The Business Ownership Initiative and the CIWBC are critical business development drivers for those without a traditional path to entrepreneurial success. The CIWBC focuses on leveling the playing field for women- and minority-owned businesses and entrepreneurs in underserved communities. Please take this opportunity to network with women at all levels at our 8th Annual Women in Business Retreat. We look forward to providing ongoing opportunities to expand your women in business network.  
URL:https://indychamber.com/event/2023-women-in-business-retreat-3/
LOCATION:The Alexander\, 333 South Delaware St\, Indianapolis\, IN\, 46204\, United States
ATTACH;FMTTYPE=:
END:VEVENT
BEGIN:VEVENT
DTSTART;TZID=America/Indiana/Indianapolis:20230327T113000
DTEND;TZID=America/Indiana/Indianapolis:20230327T130000
DTSTAMP:20260424T101848
CREATED:20221215T121911Z
LAST-MODIFIED:20221215T121911Z
UID:10000013-1679916600-1679922000@indychamber.com
SUMMARY:Breakthrough Selling
DESCRIPTION:Are you on the hunt for sustained sales momentum? \nIf you answered yes\, then we have just the training for you! Join the Indy Chamber and Trustpointe for your opportunity to improve processes\, personal performance\, and results to become the high-achieving sales professional you’ve been striving to be.  \nTOPIC: To be announced \n\nThis event is exclusive to Indy Chamber members ONLY. 
URL:https://indychamber.com/event/breakthrough-selling-march/
LOCATION:Items
CATEGORIES:Workshop
ATTACH;FMTTYPE=:
END:VEVENT
END:VCALENDAR