BEGIN:VCALENDAR
VERSION:2.0
PRODID:-//Indy Chamber - ECPv6.15.20//NONSGML v1.0//EN
CALSCALE:GREGORIAN
METHOD:PUBLISH
X-WR-CALNAME:Indy Chamber
X-ORIGINAL-URL:https://indychamber.com
X-WR-CALDESC:Events for Indy Chamber
REFRESH-INTERVAL;VALUE=DURATION:PT1H
X-Robots-Tag:noindex
X-PUBLISHED-TTL:PT1H
BEGIN:VTIMEZONE
TZID:America/Indiana/Indianapolis
BEGIN:DAYLIGHT
TZOFFSETFROM:-0500
TZOFFSETTO:-0400
TZNAME:EDT
DTSTART:20210314T070000
END:DAYLIGHT
BEGIN:STANDARD
TZOFFSETFROM:-0400
TZOFFSETTO:-0500
TZNAME:EST
DTSTART:20211107T060000
END:STANDARD
BEGIN:DAYLIGHT
TZOFFSETFROM:-0500
TZOFFSETTO:-0400
TZNAME:EDT
DTSTART:20220313T070000
END:DAYLIGHT
BEGIN:STANDARD
TZOFFSETFROM:-0400
TZOFFSETTO:-0500
TZNAME:EST
DTSTART:20221106T060000
END:STANDARD
BEGIN:DAYLIGHT
TZOFFSETFROM:-0500
TZOFFSETTO:-0400
TZNAME:EDT
DTSTART:20230312T070000
END:DAYLIGHT
BEGIN:STANDARD
TZOFFSETFROM:-0400
TZOFFSETTO:-0500
TZNAME:EST
DTSTART:20231105T060000
END:STANDARD
END:VTIMEZONE
BEGIN:VEVENT
DTSTART;TZID=America/Indiana/Indianapolis:20221102T100000
DTEND;TZID=America/Indiana/Indianapolis:20221102T110000
DTSTAMP:20260424T165031
CREATED:20230627T150537Z
LAST-MODIFIED:20230627T150537Z
UID:10000078-1667383200-1667386800@indychamber.com
SUMMARY:Member Orientation
DESCRIPTION:Jumpstart or re-start your Indy Chamber membership.  \nWe’ll provide an overview of the Indy Chamber\, information on how best to leverage your benefits\, and networking tips to help you be strategic and successful while making business connections in the nine-county region. Who should attend? Executive team\, marketing\, sales\, HR professionals\, and anyone who wants to support growth – yours and our region’s.  \nThis event is exclusive for Indy Chamber members ONLY. 
URL:https://indychamber.com/event/member-orientation-7/
LOCATION:Cards
ATTACH;FMTTYPE=:
END:VEVENT
BEGIN:VEVENT
DTSTART;TZID=America/Indiana/Indianapolis:20221102T120000
DTEND;TZID=America/Indiana/Indianapolis:20221102T130000
DTSTAMP:20260424T165031
CREATED:20230627T150537Z
LAST-MODIFIED:20230627T150537Z
UID:10000079-1667390400-1667394000@indychamber.com
SUMMARY:Business Ownership 101
DESCRIPTION:The Business Ownership 101 workshop conducted in partnership with SOURCE Entrepreneurship Center\, Inc. outlines four critical stages of business development. It will help shape your business idea\, share a variety of resources in each stage\, and create next steps needed to launch and/or grow. The workshop will also give you time to ask questions and learn from others who are looking to launch a business. This is the first step on your path to becoming a successful business owner!
URL:https://indychamber.com/event/business-ownership-101-8/
LOCATION:Virtual Zoom Webinar\, United States
ATTACH;FMTTYPE=:
END:VEVENT
BEGIN:VEVENT
DTSTART;TZID=America/Indiana/Indianapolis:20221103T083000
DTEND;TZID=America/Indiana/Indianapolis:20221103T100000
DTSTAMP:20260424T165031
CREATED:20230627T150537Z
LAST-MODIFIED:20230627T150537Z
UID:10000077-1667464200-1667469600@indychamber.com
SUMMARY:Women in Business Breakfast
DESCRIPTION:Have you ever wondered how access to capital and financing opportunities propels small businesses? Join us at Franklin College on Nov. 3 to hear from an all-star panel of women answering questions about the resources available to small businesses and the best practices for becoming capital ready — all while you connect in person with women of all levels.  \nThe Business Ownership Initiative and the CIWBC are critical business development drivers for those without a traditional path to entrepreneurial success. The CIWBC focuses on leveling the playing field for women- and minority-owned businesses and entrepreneurs in underserved communities. Please take this opportunity to network with women at all levels at our last Women in Business series event of the year.  \nWe look forward to providing ongoing opportunities to expand your women in business network.
URL:https://indychamber.com/event/women-in-business-breakfast/
LOCATION:Franklin College\, Napolitan Student Center\, Branigin Room\, 101 Branigin Boulevard\, Franklin\, IN\, 46131\, United States
ATTACH;FMTTYPE=:
END:VEVENT
END:VCALENDAR