BEGIN:VCALENDAR
VERSION:2.0
PRODID:-//Indy Chamber - ECPv6.15.20//NONSGML v1.0//EN
CALSCALE:GREGORIAN
METHOD:PUBLISH
X-ORIGINAL-URL:https://indychamber.com
X-WR-CALDESC:Events for Indy Chamber
REFRESH-INTERVAL;VALUE=DURATION:PT1H
X-Robots-Tag:noindex
X-PUBLISHED-TTL:PT1H
BEGIN:VTIMEZONE
TZID:America/Indiana/Indianapolis
BEGIN:DAYLIGHT
TZOFFSETFROM:-0500
TZOFFSETTO:-0400
TZNAME:EDT
DTSTART:20210314T070000
END:DAYLIGHT
BEGIN:STANDARD
TZOFFSETFROM:-0400
TZOFFSETTO:-0500
TZNAME:EST
DTSTART:20211107T060000
END:STANDARD
BEGIN:DAYLIGHT
TZOFFSETFROM:-0500
TZOFFSETTO:-0400
TZNAME:EDT
DTSTART:20220313T070000
END:DAYLIGHT
BEGIN:STANDARD
TZOFFSETFROM:-0400
TZOFFSETTO:-0500
TZNAME:EST
DTSTART:20221106T060000
END:STANDARD
BEGIN:DAYLIGHT
TZOFFSETFROM:-0500
TZOFFSETTO:-0400
TZNAME:EDT
DTSTART:20230312T070000
END:DAYLIGHT
BEGIN:STANDARD
TZOFFSETFROM:-0400
TZOFFSETTO:-0500
TZNAME:EST
DTSTART:20231105T060000
END:STANDARD
END:VTIMEZONE
BEGIN:VEVENT
DTSTART;TZID=America/Indiana/Indianapolis:20221005T100000
DTEND;TZID=America/Indiana/Indianapolis:20221005T110000
DTSTAMP:20260424T184013
CREATED:20230627T150539Z
LAST-MODIFIED:20230627T150539Z
UID:10000084-1664964000-1664967600@indychamber.com
SUMMARY:Member Orientation
DESCRIPTION:Jumpstart or re-start your Indy Chamber membership.  \nWe’ll provide an overview of the Indy Chamber\, information on how best to leverage your benefits\, and networking tips to help you be strategic and successful while making business connections in the nine-county region. Who should attend? Executive team\, marketing\, sales\, HR professionals\, and anyone who wants to support growth – yours and our region’s.  \nThis event is exclusive for Indy Chamber members ONLY. 
URL:https://indychamber.com/event/member-orientation-8/
LOCATION:Cards
ATTACH;FMTTYPE=:
END:VEVENT
BEGIN:VEVENT
DTSTART;TZID=America/Indiana/Indianapolis:20221005T170000
DTEND;TZID=America/Indiana/Indianapolis:20221005T220000
DTSTAMP:20260424T184013
CREATED:20230627T150539Z
LAST-MODIFIED:20230627T150539Z
UID:10000085-1664989200-1665007200@indychamber.com
SUMMARY:2022 Monumental Awards
DESCRIPTION:VIEW THE 2023 EVENT PAGE HERE\n  \n\n\n2022 MONUMENTAL AWARDS \nCELEBRATING EXCELLENCE IN THE BUILT ENVIRONMENT\n\nThis year marks the 45th anniversary of the Monumental Awards\, highlighting the built environment in the nine-county Indianapolis region. A vibrant built environment not only improves the overall quality of life but attracts talented individuals to call the Indianapolis region home. The Monumental Awards are one of the ways in which the Indy Chamber showcases the economic development growth of the Indy region. \nThis annual evening of recognition acknowledges individuals and businesses that contribute to excellence in architecture\, construction\, engineering\, innovative reuse\, interior design\, landscape architecture\, neighborhood revitalization\, public art\, and real estate development throughout the nine-county Indianapolis region. \n\n  \nTICKETS ARE NOW ON SALE\nThe 2022 Monumental Awards are heading back to Indy’s most iconic outdoor theater: the Tibbs Drive-In. Join us the evening of Wednesday\, Oct. 5\, as we recognize the individuals and businesses that have contributed to excellence in the built environment throughout the nine-county region. \nBring your whole office to celebrate with our corporate tailgate ticket package or get an individual ticket to enjoy the show! \n  \n\nCorporate Tailgate Ticket Package ($700) includes:  \n\nA 20′ x 40′ premiere reserved tailgating space.\nIn addition to your premier tailgating space\, you will receive up to 20 vehicle parking spaces in the drive-in lot.\n20 admission tickets.\nAdditional tickets can be purchased at the individual price (see below).\nCompany name showcased as a Corporate Tailgate on select digital and print marketing materials; cinema screen\, printed awards program\, event webpage\, etc.\nPLEASE NOTE: Due to our printing deadline\, corporate tailgates purchased after September 16 will not be included in print materials.\nComplimentary Tibbs famous\, drive-in-style food.\n\nIndividual Tickets ($70) includes: \n\nAdmission for one.\nComplimentary Tibbs famous\, drive-in-style food.\nIncludes one parking space.\n\n\nTickets are free for individuals 18 and under.  \n  \nThe Monumental Awards are the perfect end-of-summer celebration for your whole family and staff. So get your popcorn ready\, and come to the Tibbs Drive-In Theatre to catch the Monumental Awards on the big screen. \n 
URL:https://indychamber.com/event/2022-monumental-awards/
LOCATION:Tibbs Drive-In\, 480 S Tibbs Ave.\, Indianapolis\, Indiana\, 46241
ATTACH;FMTTYPE=:
END:VEVENT
BEGIN:VEVENT
DTSTART;TZID=America/Indiana/Indianapolis:20221013T160000
DTEND;TZID=America/Indiana/Indianapolis:20221013T190000
DTSTAMP:20260424T184013
CREATED:20230627T150538Z
LAST-MODIFIED:20230627T150538Z
UID:10000083-1665676800-1665687600@indychamber.com
SUMMARY:Conexión Celebration
DESCRIPTION:The Indy Chamber’s Hispanic Business Council is thrilled to invite you to our upcoming Conexión event! With the collaboration of supplier diversity programs in the Indy Region\, more Hispanic and Latino entrepreneurs can prepare to do business with groundbreaking projects. Conexión events are more than a networking opportunity. They are a platform that creates space for Hispanic business owners to have an equal seat at the table of groundbreaking work that impacts the entire region.  \nJoin us on Thursday\, Oct. 13 to honor Hispanic Heritage Month. We’ll celebrate the histories\, cultures\, and contributions of the Hispanic business community with live music and a selection of featured Hispanic business members — all while you connect and network with individuals who can help you grow your business. \nThis event is exclusive for Indy Chamber members ONLY. 
URL:https://indychamber.com/event/conexion-celebration-2/
LOCATION:The Jazz Kitchen\, 5377 N College Ave\, Indianapolis\, IN\, 46220\, United States
ATTACH;FMTTYPE=:
END:VEVENT
BEGIN:VEVENT
DTSTART;TZID=America/Indiana/Indianapolis:20221019T110000
DTEND;TZID=America/Indiana/Indianapolis:20221019T120000
DTSTAMP:20260424T184013
CREATED:20230627T150538Z
LAST-MODIFIED:20230627T150538Z
UID:10000082-1666177200-1666180800@indychamber.com
SUMMARY:Business Ownership 101
DESCRIPTION:This event has been postponed. Please join us at our next Business Ownership 101 on Thursday\, November 2 at 12 p.m. \n  \nThe Business Ownership 101 workshop conducted in partnership with SOURCE Entrepreneurship Center\, Inc. outlines four critical stages of business development. It will help shape your business idea\, share a variety of resources in each stage\, and create next steps needed to launch and/or grow. The workshop will also give you time to ask questions and learn from others who are looking to launch a business. This is the first step on your path to becoming a successful business owner!
URL:https://indychamber.com/event/business-ownership-101-9/
LOCATION:Virtual Zoom Webinar\, United States
ATTACH;FMTTYPE=:
END:VEVENT
BEGIN:VEVENT
DTSTART;TZID=America/Indiana/Indianapolis:20221021T090000
DTEND;TZID=America/Indiana/Indianapolis:20221021T100000
DTSTAMP:20260424T184013
CREATED:20230627T150538Z
LAST-MODIFIED:20230627T150538Z
UID:10000081-1666342800-1666346400@indychamber.com
SUMMARY:Powernet
DESCRIPTION:Speed networking for businesses.  \nAre you ready to connect with 15-20 members in one short hour? Powernet is a high-speed\, high-quality virtual speed networking event hosted by our Indy Chamber Ambassadors. It’s the perfect opportunity to share your business story and make connections with potential clients and partners!  \nPLEASE NOTE: Powernet starts at 9 a.m. You must be on time to participate due to the breakout rooms we create for networking. The first breakout session will begin promptly at 9:05 a.m. If you are late\, you may either wait until the second breakout room begins or choose to join us next month. Thank you for your cooperation and understanding.  \nThis event is exclusive for Indy Chamber members ONLY. 
URL:https://indychamber.com/event/powernet-4/
LOCATION:Cards
ATTACH;FMTTYPE=:
END:VEVENT
BEGIN:VEVENT
DTSTART;TZID=America/Indiana/Indianapolis:20221031T113000
DTEND;TZID=America/Indiana/Indianapolis:20221031T130000
DTSTAMP:20260424T184013
CREATED:20230627T150537Z
LAST-MODIFIED:20230627T150537Z
UID:10000080-1667215800-1667221200@indychamber.com
SUMMARY:Breakthrough Selling
DESCRIPTION:Are you on the hunt for sustained sales momentum? If you answered yes\, then we have just the training for you! Join the Indy Chamber and Trustpointe for your opportunity to improve processes\, personal performance\, and results to become the high-achieving sales professional you’ve been striving to be.  \nTOPIC: ATTRACTING TOP SALES TALENT \nAre you responsible for building your sales team? For hiring your next superstar? This Breakthrough session is for you and key sales leaders! Hiring for the DNA of a superstar requires a process. You’ll need an interview structure\, the right sales talent assessments\, a scorecard\, and MUST-HAVE’s based on your RESEARCH model. Sandler Trustpointe’s RESEARCH MODEL WILL give you the insight you need to build evidence of success and eliminate confirmation bias. \n  \nThis event is exclusive to Indy Chamber members ONLY. 
URL:https://indychamber.com/event/breakthrough-selling-13/
LOCATION:Items
ATTACH;FMTTYPE=:
END:VEVENT
END:VCALENDAR