BEGIN:VCALENDAR
VERSION:2.0
PRODID:-//Indy Chamber - ECPv6.15.20//NONSGML v1.0//EN
CALSCALE:GREGORIAN
METHOD:PUBLISH
X-ORIGINAL-URL:https://indychamber.com
X-WR-CALDESC:Events for Indy Chamber
REFRESH-INTERVAL;VALUE=DURATION:PT1H
X-Robots-Tag:noindex
X-PUBLISHED-TTL:PT1H
BEGIN:VTIMEZONE
TZID:America/Indiana/Indianapolis
BEGIN:DAYLIGHT
TZOFFSETFROM:-0500
TZOFFSETTO:-0400
TZNAME:EDT
DTSTART:20210314T070000
END:DAYLIGHT
BEGIN:STANDARD
TZOFFSETFROM:-0400
TZOFFSETTO:-0500
TZNAME:EST
DTSTART:20211107T060000
END:STANDARD
BEGIN:DAYLIGHT
TZOFFSETFROM:-0500
TZOFFSETTO:-0400
TZNAME:EDT
DTSTART:20220313T070000
END:DAYLIGHT
BEGIN:STANDARD
TZOFFSETFROM:-0400
TZOFFSETTO:-0500
TZNAME:EST
DTSTART:20221106T060000
END:STANDARD
BEGIN:DAYLIGHT
TZOFFSETFROM:-0500
TZOFFSETTO:-0400
TZNAME:EDT
DTSTART:20230312T070000
END:DAYLIGHT
BEGIN:STANDARD
TZOFFSETFROM:-0400
TZOFFSETTO:-0500
TZNAME:EST
DTSTART:20231105T060000
END:STANDARD
END:VTIMEZONE
BEGIN:VEVENT
DTSTART;TZID=America/Indiana/Indianapolis:20220901T173000
DTEND;TZID=America/Indiana/Indianapolis:20220901T210000
DTSTAMP:20260424T201129
CREATED:20230627T150540Z
LAST-MODIFIED:20230627T150540Z
UID:10000091-1662053400-1662066000@indychamber.com
SUMMARY:2022 HobNob
DESCRIPTION:Indy’s biggest political party of the year is back! HobNob is returning to Union Station in downtown Indianapolis on Thursday\, Sept. 1. \nGeneral admission tickets are now on sale! Join us to hear from prominent party leaders and candidates as they share their thoughts on the 2022 election season\, followed by networking\, a cocktail reception\, and live music from Rob Dixon — all yours with a general admission ticket! \nInterested in an exclusive opportunity to hear from the region’s mayors in a panel discussion before the event? Purchase a VIP ticket — starting at $75 — and enjoy complimentary refreshments and admission to the public reception. \nAgenda: \n\n4 p.m. VIP Doors Open\n4:30 p.m. VIP Programming\n5:30 p.m. General Admission Doors Open\n6 p.m. Programming\n\nThis is the kickoff to a pivotal 2022 election season — and we want to see you there!
URL:https://indychamber.com/event/2022-hobnob/
LOCATION:Crowne Plaza Union Station\, 123 West Louisiana Street\, Indianapolis\, IN\, 46225\, United States
ATTACH;FMTTYPE=:
END:VEVENT
BEGIN:VEVENT
DTSTART;TZID=America/Indiana/Indianapolis:20220908T100000
DTEND;TZID=America/Indiana/Indianapolis:20220908T110000
DTSTAMP:20260424T201129
CREATED:20230627T150540Z
LAST-MODIFIED:20230627T150540Z
UID:10000090-1662631200-1662634800@indychamber.com
SUMMARY:Member Orientation
DESCRIPTION:Jumpstart or re-start your Indy Chamber membership.   \nWe’ll provide an overview of the Indy Chamber\, information on how best to leverage your benefits\, and networking tips to help you be strategic and successful while making business connections in the nine-county region. Who should attend? Executive team\, marketing\, sales\, HR professionals\, and anyone who wants to support growth – yours and our region’s.  \nThis event is exclusive for Indy Chamber members ONLY. 
URL:https://indychamber.com/event/member-orientation-9/
LOCATION:Cards
ATTACH;FMTTYPE=:
END:VEVENT
BEGIN:VEVENT
DTSTART;TZID=America/Indiana/Indianapolis:20220921T083000
DTEND;TZID=America/Indiana/Indianapolis:20220921T100000
DTSTAMP:20260424T201129
CREATED:20230627T150539Z
LAST-MODIFIED:20230627T150539Z
UID:10000088-1663749000-1663754400@indychamber.com
SUMMARY:Top Investor Breakfast
DESCRIPTION:Exclusive to our Top Investor members\, these events offer business leaders an opportunity to gather and discuss topics impacting their businesses. Stakeholders from across the Indy region are invited to take a deeper dive into the initiatives of the Indy Chamber impacting the future of our community.  \nOn September 21\, join us for a conversation with Ersal Ozdemir\, founder and owner of Keystone Group and Indy Eleven\, as he guides us through an inside look at Eleven Park. This transformational neighborhood development\, anchored by a multi-purpose soccer stadium\, improves the quality of place in downtown Indianapolis. Michael Huber\, CEO and President of the Indy Chamber\, will moderate the discussion. \nRegistration for this event is by invitation ONLY\, and invitations are non-transferable. If you’d like to speak with a sales representative to upgrade your membership to attend Top Investor events\, please reach out to our team today. 
URL:https://indychamber.com/event/top-investor-breakfast-6/
LOCATION:Button Style
ATTACH;FMTTYPE=:
END:VEVENT
BEGIN:VEVENT
DTSTART;TZID=America/Indiana/Indianapolis:20220921T120000
DTEND;TZID=America/Indiana/Indianapolis:20220921T130000
DTSTAMP:20260424T201129
CREATED:20230627T150540Z
LAST-MODIFIED:20230627T150540Z
UID:10000089-1663761600-1663765200@indychamber.com
SUMMARY:Business Ownership 101
DESCRIPTION:The Business Ownership 101 workshop conducted in partnership with SOURCE Entrepreneurship Center\, Inc. outlines four critical stages of business development. It will help shape your business idea\, share a variety of resources in each stage\, and create next steps needed to launch and/or grow. The workshop will also give you time to ask questions and learn from others who are looking to launch a business. This is the first step on your path to becoming a successful business owner!
URL:https://indychamber.com/event/business-ownership-101-10/
LOCATION:Virtual Zoom Webinar\, United States
ATTACH;FMTTYPE=:
END:VEVENT
BEGIN:VEVENT
DTSTART;TZID=America/Indiana/Indianapolis:20220925T000000
DTEND;TZID=America/Indiana/Indianapolis:20220928T000000
DTSTAMP:20260424T201129
CREATED:20230627T150539Z
LAST-MODIFIED:20230627T150539Z
UID:10000087-1664064000-1664323200@indychamber.com
SUMMARY:Save the Date: Leadership Exchange 2022
DESCRIPTION:
URL:https://indychamber.com/event/save-the-date-leadership-exchange-2022/
LOCATION:TBD
ATTACH;FMTTYPE=:
END:VEVENT
BEGIN:VEVENT
DTSTART;TZID=America/Indiana/Indianapolis:20220926T113000
DTEND;TZID=America/Indiana/Indianapolis:20220926T130000
DTSTAMP:20260424T201129
CREATED:20230627T150539Z
LAST-MODIFIED:20230627T150539Z
UID:10000086-1664191800-1664197200@indychamber.com
SUMMARY:Breakthrough Selling
DESCRIPTION:Are you on the hunt for sustained sales momentum? If you answered yes\, then we have just the training for you! Join the Indy Chamber and Trustpointe for your opportunity to improve processes\, personal performance\, and results to become the high-achieving sales professional you’ve been striving to be.  \nTOPIC: SELLING TO THE MODERN BUYER \nThe selling world changed\, and sellers have not adapted. In this session\, you’ll build the necessary skills to effectively navigate the modern buyer’s journey. Our Breakthrough sessions\, always interactive and engaging\, are meant to make you think. In this one\, you’ll also learn: \n\nThe 4 key steps of the modern buyer’s journey.\nHow to adapt your selling philosophy to the modern buyer.\nNEW Sandler Rules to help you navigate the current sales environment.\n\n  \nThis event is exclusive to Indy Chamber members ONLY. 
URL:https://indychamber.com/event/breakthrough-selling-14/
LOCATION:Items
ATTACH;FMTTYPE=:
END:VEVENT
END:VCALENDAR