BEGIN:VCALENDAR
VERSION:2.0
PRODID:-//Indy Chamber - ECPv6.15.20//NONSGML v1.0//EN
CALSCALE:GREGORIAN
METHOD:PUBLISH
X-WR-CALNAME:Indy Chamber
X-ORIGINAL-URL:https://indychamber.com
X-WR-CALDESC:Events for Indy Chamber
REFRESH-INTERVAL;VALUE=DURATION:PT1H
X-Robots-Tag:noindex
X-PUBLISHED-TTL:PT1H
BEGIN:VTIMEZONE
TZID:America/Indiana/Indianapolis
BEGIN:DAYLIGHT
TZOFFSETFROM:-0500
TZOFFSETTO:-0400
TZNAME:EDT
DTSTART:20200308T070000
END:DAYLIGHT
BEGIN:STANDARD
TZOFFSETFROM:-0400
TZOFFSETTO:-0500
TZNAME:EST
DTSTART:20201101T060000
END:STANDARD
BEGIN:DAYLIGHT
TZOFFSETFROM:-0500
TZOFFSETTO:-0400
TZNAME:EDT
DTSTART:20210314T070000
END:DAYLIGHT
BEGIN:STANDARD
TZOFFSETFROM:-0400
TZOFFSETTO:-0500
TZNAME:EST
DTSTART:20211107T060000
END:STANDARD
BEGIN:DAYLIGHT
TZOFFSETFROM:-0500
TZOFFSETTO:-0400
TZNAME:EDT
DTSTART:20220313T070000
END:DAYLIGHT
BEGIN:STANDARD
TZOFFSETFROM:-0400
TZOFFSETTO:-0500
TZNAME:EST
DTSTART:20221106T060000
END:STANDARD
END:VTIMEZONE
BEGIN:VEVENT
DTSTART;TZID=America/Indiana/Indianapolis:20211006T090000
DTEND;TZID=America/Indiana/Indianapolis:20211006T100000
DTSTAMP:20260425T123351
CREATED:20230627T150607Z
LAST-MODIFIED:20230627T150607Z
UID:10000150-1633510800-1633514400@indychamber.com
SUMMARY:Member Orientation
DESCRIPTION:Jumpstart or re-start your Indy Chamber membership. We’ll provide an overview of the Indy Chamber\, information on how best to leverage your benefits and networking tips to help you be strategic and successful while making business connections in the 9 county region. You’ll also have the opportunity to virtually meet 20-30 other businesses. Who should attend? Executive team\, Marketing\, Sales\, HR. Anyone who wants to support growth; yours and our region’s. \nJoin us for this live member orientation experience!
URL:https://indychamber.com/event/member-orientation-20/
LOCATION:Content
ATTACH;FMTTYPE=:
END:VEVENT
BEGIN:VEVENT
DTSTART;TZID=America/Indiana/Indianapolis:20211006T110000
DTEND;TZID=America/Indiana/Indianapolis:20211006T120000
DTSTAMP:20260425T123351
CREATED:20230627T150607Z
LAST-MODIFIED:20230627T150607Z
UID:10000151-1633518000-1633521600@indychamber.com
SUMMARY:Conexión
DESCRIPTION:Join us virtually on Wednesday\, Oct. 6 at Conexión for a celebration of Hispanic Heritage Month! We’ll hear from our Hispanic Business Council members and IndyGo about their new Purple Line project and its impact on the Hispanic business community. \nThis event will be virtual from 11 a.m. through 12 p.m.
URL:https://indychamber.com/event/conexion/
LOCATION:Cards
ATTACH;FMTTYPE=:
END:VEVENT
BEGIN:VEVENT
DTSTART;TZID=America/Indiana/Indianapolis:20211007T120000
DTEND;TZID=America/Indiana/Indianapolis:20211007T130000
DTSTAMP:20260425T123351
CREATED:20230627T150607Z
LAST-MODIFIED:20230627T150607Z
UID:10000149-1633608000-1633611600@indychamber.com
SUMMARY:Business Ownership 101
DESCRIPTION:The Business Ownership 101 workshop conducted in partnership with SOURCE Entrepreneurship Center\, Inc outlines four critical stages of business development. It will help shape your business idea\, share a variety of resources in each stage\, and create next steps needed to launch and/or grow. The workshop will also give you time to ask questions and learn from others who are looking to launch a business. This is the first step on your path to becoming a successful business owner!
URL:https://indychamber.com/event/business-ownership-101-31/
LOCATION:Virtual Zoom Webinar\, United States
ATTACH;FMTTYPE=:
END:VEVENT
BEGIN:VEVENT
DTSTART;TZID=America/Indiana/Indianapolis:20211015T090000
DTEND;TZID=America/Indiana/Indianapolis:20211015T100000
DTSTAMP:20260425T123351
CREATED:20230627T150607Z
LAST-MODIFIED:20230627T150607Z
UID:10000148-1634288400-1634292000@indychamber.com
SUMMARY:Powernet
DESCRIPTION:Speed Networking \nPOWERNET IS HERE. Are you ready to connect with 15-20 members in one short hour? It’s time to share your business story and make connections with potential clients and partners! We’re excited for you to join fellow Indy Chamber members for this high-speed\, high-quality virtual networking event hosted by our Indy Chamber Ambassadors. This event is exclusive for Indy Chamber Members ONLY. \nWHAT OUR MEMBERS ARE SAYING: \n“Thanks to the Indy Chamber for hosting Powernet. I’ve set 5 meetings from it\, all very solid opportunities. I’m excited for more types of events like this.” \nPLEASE NOTE: \nPowernet starts at 9am and you must be on time to participate due to the breakout rooms we create for networking. The first breakout session will begin promptly at 9:05am. If you are late\, you will need to wait until the second breakout room starts\, or you can choose to join us next month. Thank you for your cooperation and understanding.
URL:https://indychamber.com/event/powernet-10/
LOCATION:Content
ATTACH;FMTTYPE=:
END:VEVENT
BEGIN:VEVENT
DTSTART;TZID=America/Indiana/Indianapolis:20211020T110000
DTEND;TZID=America/Indiana/Indianapolis:20211020T120000
DTSTAMP:20260425T123351
CREATED:20230627T150606Z
LAST-MODIFIED:20230627T150606Z
UID:10000147-1634727600-1634731200@indychamber.com
SUMMARY:Business Ownership 101
DESCRIPTION:The Business Ownership 101 workshop conducted in partnership with SOURCE Entrepreneurship Center\, Inc outlines four critical stages of business development. It will help shape your business idea\, share a variety of resources in each stage\, and create next steps needed to launch and/or grow. The workshop will also give you time to ask questions and learn from others who are looking to launch a business. This is the first step on your path to becoming a successful business owner!
URL:https://indychamber.com/event/business-ownership-101-30/
LOCATION:Virtual Zoom Webinar\, United States
ATTACH;FMTTYPE=:
END:VEVENT
BEGIN:VEVENT
DTSTART;TZID=America/Indiana/Indianapolis:20211020T160000
DTEND;TZID=America/Indiana/Indianapolis:20211020T180000
DTSTAMP:20260425T123351
CREATED:20230627T150606Z
LAST-MODIFIED:20230627T150606Z
UID:10000146-1634745600-1634752800@indychamber.com
SUMMARY:Lagers & Leaders
DESCRIPTION:Ron Smith is a master level BJCP Beer Judge\, a certified Cicerone\, Craft Brewery Operations & World Beer Styles Educator\, Craft / Small Brewery Quality Consultant\, Belgium & Germany Beer Trip Guide\, International Whiskey Judge\, and he supports MarketWise Solutions -&- BeerMBA Classes and Trips. Needless to say\, guests will have the opportunity to walk away with newfound knowledge about the pint in their hands! \nThe event features a conversation with Ron moderated by Indy Chamber COO\, Ian Nicolini. Lagers & Leaders is a great way to connect with other Indy Chamber members and prioritize new connections. Tickets go quickly\, register to attend\, today! \n  \nLagers & Leaders presented by TCU would not be possible without our sponsors! Our thanks go to presenting sponsor\, TCU\, supporting sponsors\, Keystone\, Indy Eleven\, and Roche\, and our associate sponsor\, IUPUI. In-Kind Sponsor: St. Joseph Brewery.
URL:https://indychamber.com/event/lagers-leaders-9/
LOCATION:St. Joseph Historic Hall\, 617 E North St.\, Indianapolis\, IN\, 46204\, United States
ATTACH;FMTTYPE=:
END:VEVENT
BEGIN:VEVENT
DTSTART;TZID=America/Indiana/Indianapolis:20211025T113000
DTEND;TZID=America/Indiana/Indianapolis:20211025T130000
DTSTAMP:20260425T123351
CREATED:20230627T150606Z
LAST-MODIFIED:20230627T150606Z
UID:10000145-1635161400-1635166800@indychamber.com
SUMMARY:Breakthrough Selling
DESCRIPTION:THE FORMULA FOR TRUST AND THE LENGTH OF YOUR SELLING CYCLE  \nIndy Chamber’s Ross Raifsnider will tee up Sandler Training Trustpointe’s Amy Woodall to awaken the service experience within. Think of your top ten clients – how do they measure you? What are their benchmarks for maintaining you as their prime source? Are their expectations agreed to in writing? Avoid the blindside by eliminating this necessary blind spot and join us as Amy Woodall makes you think twice about your service assumptions. 
URL:https://indychamber.com/event/breakthrough-selling-24/
LOCATION:Content
ATTACH;FMTTYPE=:
END:VEVENT
BEGIN:VEVENT
DTSTART;TZID=America/Indiana/Indianapolis:20211029T083000
DTEND;TZID=America/Indiana/Indianapolis:20211029T100000
DTSTAMP:20260425T123351
CREATED:20230627T150606Z
LAST-MODIFIED:20230627T150606Z
UID:10000144-1635496200-1635501600@indychamber.com
SUMMARY:Spotlight on Noblesville
DESCRIPTION:The Spotlight On…Series sponsored by Duke Energy was created to help attendees get to know Indy’s region. Each month\, a different community within Indy’s nine-county region is hosted in an effort to share key happenings and help connect priority projects across community lines. \nOn October 29\, the Indy Chamber in partnership with the Noblesville Chamber invites you to the next installment of this event\, the Spotlight on Noblesville featuring Mayor Chris Jensen. Mayor Jensen has called Noblesville home his entire life\, and now he’s helping shape the community with recent news of a 300-acre innovation district. \nThe Spotlight on Noblesville is free to attend and takes place in person at The Nesst of Noblesville from 8:30 to 10 a.m. We invite you to arrive early to participate in opening networking and to enjoy a light breakfast before the conversation begins at 9 a.m. \nRegistration is required\, so be sure to secure your ticket. We also encourage you to save the date for the November installation of the Spotlight on Series featuring the City of Greenwood. Details to come\, soon!
URL:https://indychamber.com/event/spotlight-on-noblesville/
LOCATION:The Nesst of Noblesville\, 917 Conner Street\, Noblesville\, IN\, 46060\, United States
ATTACH;FMTTYPE=:
END:VEVENT
END:VCALENDAR