BEGIN:VCALENDAR
VERSION:2.0
PRODID:-//Indy Chamber - ECPv6.15.20//NONSGML v1.0//EN
CALSCALE:GREGORIAN
METHOD:PUBLISH
X-WR-CALNAME:Indy Chamber
X-ORIGINAL-URL:https://indychamber.com
X-WR-CALDESC:Events for Indy Chamber
REFRESH-INTERVAL;VALUE=DURATION:PT1H
X-Robots-Tag:noindex
X-PUBLISHED-TTL:PT1H
BEGIN:VTIMEZONE
TZID:America/Indiana/Indianapolis
BEGIN:DAYLIGHT
TZOFFSETFROM:-0500
TZOFFSETTO:-0400
TZNAME:EDT
DTSTART:20200308T070000
END:DAYLIGHT
BEGIN:STANDARD
TZOFFSETFROM:-0400
TZOFFSETTO:-0500
TZNAME:EST
DTSTART:20201101T060000
END:STANDARD
BEGIN:DAYLIGHT
TZOFFSETFROM:-0500
TZOFFSETTO:-0400
TZNAME:EDT
DTSTART:20210314T070000
END:DAYLIGHT
BEGIN:STANDARD
TZOFFSETFROM:-0400
TZOFFSETTO:-0500
TZNAME:EST
DTSTART:20211107T060000
END:STANDARD
BEGIN:DAYLIGHT
TZOFFSETFROM:-0500
TZOFFSETTO:-0400
TZNAME:EDT
DTSTART:20220313T070000
END:DAYLIGHT
BEGIN:STANDARD
TZOFFSETFROM:-0400
TZOFFSETTO:-0500
TZNAME:EST
DTSTART:20221106T060000
END:STANDARD
END:VTIMEZONE
BEGIN:VEVENT
DTSTART;TZID=America/Indiana/Indianapolis:20210504T090000
DTEND;TZID=America/Indiana/Indianapolis:20210504T100000
DTSTAMP:20260425T204957
CREATED:20230627T150620Z
LAST-MODIFIED:20230627T150620Z
UID:10000199-1620118800-1620122400@indychamber.com
SUMMARY:Virtual Top Investor
DESCRIPTION:Top Investor events were created exclusively for C-suite executives of Indy Chamber members at our premium membership levels. Registration for Top Investor events are by invitation-only and are non-transferable. If you’d like to speak with a sales representative to upgrade your membership to be able to attend Top Investor events\, fill out the form below or reach out to our team today. \n 
URL:https://indychamber.com/event/virtual-top-investor/
LOCATION:Virtual Zoom Webinar\, United States
ATTACH;FMTTYPE=image/png:https://indychamber.com/wp-content/uploads/2022/12/Weird-Flex-but-OK-01-2.png
END:VEVENT
BEGIN:VEVENT
DTSTART;TZID=America/Indiana/Indianapolis:20210505T090000
DTEND;TZID=America/Indiana/Indianapolis:20210505T100000
DTSTAMP:20260425T204957
CREATED:20230627T150620Z
LAST-MODIFIED:20230627T150620Z
UID:10000197-1620205200-1620208800@indychamber.com
SUMMARY:Member Orientation
DESCRIPTION:Jump start or re-start your Indy Chamber membership. We’ll provide an overview of the Indy Chamber\, information on how best to leverage your benefits and networking tips to help you be strategic and successful while making business connections in the 9 county region. You’ll also have the opportunity to virtually meet 20-30 other businesses. Who should attend? Executive team\, Marketing\, Sales\, HR. Anyone who wants to support growth; yours and our region’s. \nJoin us for this live member orientation experience!
URL:https://indychamber.com/event/member-orientation-25/
LOCATION:Cards
ATTACH;FMTTYPE=:
END:VEVENT
BEGIN:VEVENT
DTSTART;TZID=America/Indiana/Indianapolis:20210505T110000
DTEND;TZID=America/Indiana/Indianapolis:20210505T120000
DTSTAMP:20260425T204957
CREATED:20230627T150620Z
LAST-MODIFIED:20230627T150620Z
UID:10000198-1620212400-1620216000@indychamber.com
SUMMARY:Pancakes & Politics | A Fresh Perspective: Legislative Wrap-Up with Three Freshman Legislators
DESCRIPTION:Join the Indy Chamber Advocacy team for another virtual Pancakes & Politics session on May 5! We will get the final 2021 Legislative Session breakdown and statehouse insight from our Chief Policy Officer\, Mark Fisher. Chip Garver from Faegre Drinker will serve as moderator in conversation with Representative Renee Pack\, Senator Fady Qaddoura\, and Senator Kyle Walker. \n\nRep. Renee Pack | D-Indianapolis | District 92\nSen. Fady Qaddoura | D-Indianapolis | District 30\nSen. Kyle Walker | R-Indianapolis | District 31\n\nRegister to dig in with us on May 5 at 11am!
URL:https://indychamber.com/event/pancakes-politics-a-fresh-perspective-legislative-wrap-up-with-three-freshman-legislators/
LOCATION:Virtual Zoom Webinar\, United States
ATTACH;FMTTYPE=image/png:https://indychamber.com/wp-content/uploads/2022/12/Weird-Flex-but-OK-01-2.png
END:VEVENT
BEGIN:VEVENT
DTSTART;TZID=America/Indiana/Indianapolis:20210512T110000
DTEND;TZID=America/Indiana/Indianapolis:20210512T120000
DTSTAMP:20260425T204957
CREATED:20230627T150619Z
LAST-MODIFIED:20230627T150619Z
UID:10000196-1620817200-1620820800@indychamber.com
SUMMARY:Spotlight On Indianapolis
DESCRIPTION:Join us for our next installment of our Spotlight On Series where Indy Chamber CEO and President\, Michael Huber and Sarah Iglehart\, Vice President\, Regional Economic Development will sit down with Indianapolis Mayor Hogsett to discuss major economic development projects\, the Circle City Forward initiative\, and the future of downtown. \nThe Spotlight On… Series was developed to provide insight on community projects\, future plans and overall insight on a nearby county’s community and from their mayor. \nThis series is supported by Duke Energy. \nBONUS VIRTUAL NETWORKING: Stick around following the event for your exclusive chance to meet other Indy Chamber members. This is a great opportunity to network and connect with leaders from the region.
URL:https://indychamber.com/event/spotlight-on-indianapolis/
LOCATION:Virtual Zoom Webinar\, United States
ATTACH;FMTTYPE=:
END:VEVENT
BEGIN:VEVENT
DTSTART;TZID=America/Indiana/Indianapolis:20210513T110000
DTEND;TZID=America/Indiana/Indianapolis:20210513T120000
DTSTAMP:20260425T204957
CREATED:20230627T150619Z
LAST-MODIFIED:20230627T150619Z
UID:10000195-1620903600-1620907200@indychamber.com
SUMMARY:Business Ownership 101
DESCRIPTION:The Business Ownership 101 workshop conducted in partnership with SOURCE Entrepreneurship Center\, Inc outlines four critical stages of business development. It will help shape your business idea\, share a variety of resources in each stage\, and create next steps needed to launch and/or grow. The workshop will also give you time to ask questions and learn from others who are looking to launch a business. This is the first step on your path to becoming a successful business owner!
URL:https://indychamber.com/event/business-ownership-101-41/
LOCATION:Virtual Zoom Webinar\, United States
ATTACH;FMTTYPE=:
END:VEVENT
BEGIN:VEVENT
DTSTART;TZID=America/Indiana/Indianapolis:20210514T090000
DTEND;TZID=America/Indiana/Indianapolis:20210514T100000
DTSTAMP:20260425T204957
CREATED:20230627T150619Z
LAST-MODIFIED:20230627T150619Z
UID:10000194-1620982800-1620986400@indychamber.com
SUMMARY:Coffee with the President
DESCRIPTION:This is an exclusive opportunity to virtually meet Michael Huber\, President & CEO of the Indy Chamber\, network with fellow business leaders in the Indianapolis region and learn how an Indy Chamber membership can impact your business. Registration for Coffee with the President sessions are by invitation-only. If you’d like to speak with a sales representative to be able to attend Coffee with the President sessions\,  reach out to our team today. \nLimited space is available so reserve your virtual mug today! \n  \n 
URL:https://indychamber.com/event/coffee-with-the-president-11/
LOCATION:Cards
ATTACH;FMTTYPE=:
END:VEVENT
BEGIN:VEVENT
DTSTART;TZID=America/Indiana/Indianapolis:20210519T113000
DTEND;TZID=America/Indiana/Indianapolis:20210519T133000
DTSTAMP:20260425T204957
CREATED:20230627T150619Z
LAST-MODIFIED:20230627T150619Z
UID:10000193-1621423800-1621431000@indychamber.com
SUMMARY:Conexion 5 for 500
DESCRIPTION:Each year the Indy Chamber’s Hispanic Business Council gathers corporate and civic leaders from across the Indianapolis region to recognize individuals who are paving the way for Hispanic progress in our community. \nJoin us at the famed Indianapolis Motor Speedway for an experience unlike any other. Celebrate leaders\, hear from local officials and motorsports professionals\, and stick around after lunch to attend a practice session at the Brickyard. Ladies and gentlemen\, start your engines at Conexion 5 for 500. \nTicket includes: \n\nLunch Presentation\nNetworking\n\nParking information coming soon. \n\nCancellation policy: Payments can be refunded if cancellation notice is submitted 72 hours in advance of event. No refunds are available after this time.
URL:https://indychamber.com/event/conexion-5-for-500-3/
LOCATION:Image Width
ATTACH;FMTTYPE=:
END:VEVENT
BEGIN:VEVENT
DTSTART;TZID=America/Indiana/Indianapolis:20210521T090000
DTEND;TZID=America/Indiana/Indianapolis:20210521T100000
DTSTAMP:20260425T204957
CREATED:20230627T150618Z
LAST-MODIFIED:20230627T150618Z
UID:10000192-1621587600-1621591200@indychamber.com
SUMMARY:Powernet
DESCRIPTION:Networking at the Speed of Business \nPOWERNET IS HERE. Are you ready to connect with more than 100 business professionals from the Indy Region? It’s time to share your business story  and make connections with potential clients and partners! We’re excited for you to join fellow Indy Chamber members for this high-speed\, high-quality virtual networking event hosted by our Indy Chamber Ambassadors. This event is exclusive for Indy Chamber Members ONLY. \nWHAT OUR MEMBERS ARE SAYING: \n“Thanks to the Indy Chamber for hosting Powernet. I’ve set 5 meetings from it\, all very solid opportunities. I’m excited for more types of events like this.” \nPLEASE NOTE: \nPowernet starts at 9am and you must be on time to participate due to the breakout rooms we create for networking. The first breakout session will begin promptly at 9:05am. If you are late\, you will need to wait until the second breakout room starts\, or you can choose to join us next month. Thank you for your cooperation and understanding.
URL:https://indychamber.com/event/powernet-15/
LOCATION:Cards
ATTACH;FMTTYPE=:
END:VEVENT
BEGIN:VEVENT
DTSTART;TZID=America/Indiana/Indianapolis:20210524T113000
DTEND;TZID=America/Indiana/Indianapolis:20210524T130000
DTSTAMP:20260425T204957
CREATED:20230627T150618Z
LAST-MODIFIED:20230627T150618Z
UID:10000191-1621855800-1621861200@indychamber.com
SUMMARY:Breakthrough Selling: The Leader as Coach
DESCRIPTION:The Leader as Coach \nAs a leader – whether as the business owner\, Director of Sales\, or department head – you wear many hats: Manager\, supervisor\, mentor\, and coach. Coaching is most often the “good intention\, but little time\,” yet coaching should be 35% of your dedicated time. What does a coach actually do? Ross Raifsnider at the Indy Chamber will team with Chris Roberts of Sandler Training Trustpointe in our next Breakthrough Selling forum to provide insight and technique to position you to win! \n 
URL:https://indychamber.com/event/breakthrough-selling-the-leader-as-coach/
LOCATION:Cards
ATTACH;FMTTYPE=:
END:VEVENT
BEGIN:VEVENT
DTSTART;TZID=America/Indiana/Indianapolis:20210526T120000
DTEND;TZID=America/Indiana/Indianapolis:20210526T130000
DTSTAMP:20260425T204957
CREATED:20230627T150618Z
LAST-MODIFIED:20230627T150618Z
UID:10000190-1622030400-1622034000@indychamber.com
SUMMARY:Business Ownership 101
DESCRIPTION:The Business Ownership 101 workshop conducted in partnership with SOURCE Entrepreneurship Center\, Inc outlines four critical stages of business development. It will help shape your business idea\, share a variety of resources in each stage\, and create next steps needed to launch and/or grow. The workshop will also give you time to ask questions and learn from others who are looking to launch a business. This is the first step on your path to becoming a successful business owner!
URL:https://indychamber.com/event/business-ownership-101-40/
LOCATION:Virtual Zoom Webinar\, United States
ATTACH;FMTTYPE=:
END:VEVENT
END:VCALENDAR