BEGIN:VCALENDAR
VERSION:2.0
PRODID:-//Indy Chamber - ECPv6.15.20//NONSGML v1.0//EN
CALSCALE:GREGORIAN
METHOD:PUBLISH
X-WR-CALNAME:Indy Chamber
X-ORIGINAL-URL:https://indychamber.com
X-WR-CALDESC:Events for Indy Chamber
REFRESH-INTERVAL;VALUE=DURATION:PT1H
X-Robots-Tag:noindex
X-PUBLISHED-TTL:PT1H
BEGIN:VTIMEZONE
TZID:America/Indiana/Indianapolis
BEGIN:DAYLIGHT
TZOFFSETFROM:-0500
TZOFFSETTO:-0400
TZNAME:EDT
DTSTART:20200308T070000
END:DAYLIGHT
BEGIN:STANDARD
TZOFFSETFROM:-0400
TZOFFSETTO:-0500
TZNAME:EST
DTSTART:20201101T060000
END:STANDARD
BEGIN:DAYLIGHT
TZOFFSETFROM:-0500
TZOFFSETTO:-0400
TZNAME:EDT
DTSTART:20210314T070000
END:DAYLIGHT
BEGIN:STANDARD
TZOFFSETFROM:-0400
TZOFFSETTO:-0500
TZNAME:EST
DTSTART:20211107T060000
END:STANDARD
BEGIN:DAYLIGHT
TZOFFSETFROM:-0500
TZOFFSETTO:-0400
TZNAME:EDT
DTSTART:20220313T070000
END:DAYLIGHT
BEGIN:STANDARD
TZOFFSETFROM:-0400
TZOFFSETTO:-0500
TZNAME:EST
DTSTART:20221106T060000
END:STANDARD
END:VTIMEZONE
BEGIN:VEVENT
DTSTART;TZID=America/Indiana/Indianapolis:20210407T090000
DTEND;TZID=America/Indiana/Indianapolis:20210407T100000
DTSTAMP:20260425T222655
CREATED:20230627T150623Z
LAST-MODIFIED:20230627T150623Z
UID:10000209-1617786000-1617789600@indychamber.com
SUMMARY:Member Orientation
DESCRIPTION:Jump start or re-start your Indy Chamber membership. We’ll provide an overview of the Indy Chamber\, information on how best to leverage your benefits and networking tips to help you be strategic and successful while making business connections in the 9 county region. You’ll also have the opportunity to virtually meet 20-30 other businesses. Who should attend? Executive team\, Marketing\, Sales\, HR. Anyone who wants to support growth; yours and our region’s. \nJoin us for this live member orientation experience!
URL:https://indychamber.com/event/member-orientation-26/
LOCATION:Cards
ATTACH;FMTTYPE=image/png:https://indychamber.com/wp-content/uploads/2022/12/Weird-Flex-but-OK-01-2.png
END:VEVENT
BEGIN:VEVENT
DTSTART;TZID=America/Indiana/Indianapolis:20210413T090000
DTEND;TZID=America/Indiana/Indianapolis:20210413T100000
DTSTAMP:20260425T222655
CREATED:20230627T150623Z
LAST-MODIFIED:20230627T150623Z
UID:10000208-1618304400-1618308000@indychamber.com
SUMMARY:How-To Reorganize Your Mental & Physical Space
DESCRIPTION:Mary Beth Oakes \, CEO of Business Furniture\, firmly believes that a space can shape an employee’s behavior and a productive office can drive results. In a working world where most employees have been operating from their own living room\, how can employers step up their game and bring employees back to a workspace that is comfortable and cultivates success. With more than 30 years of related experience\, Oakes will be discussing the hybrid future\, the changing expectations for an organization and outline the top 5 critical elements employees are looking for. Join the conversation with Mary Beth Oakes where she and Indy Chamber’s Chief Revenue Officer\, Julie Grice\, will be discussing the hybrid future and how to adapt your workplace to suit your employees changing expectations. \nThis virtual event will include a session where you and fellow attendees will be broken in to a small group to discuss the speakers topic questions and get insight from fellow small business members. \nThis event is exclusive for Indy Chamber Members ONLY and catered to small businesses with 100 or less employees.
URL:https://indychamber.com/event/how-to-reorganize-your-mental-physical-space/
LOCATION:Cards
ATTACH;FMTTYPE=image/png:https://indychamber.com/wp-content/uploads/2022/12/Weird-Flex-but-OK-01-2.png
END:VEVENT
BEGIN:VEVENT
DTSTART;TZID=America/Indiana/Indianapolis:20210414T110000
DTEND;TZID=America/Indiana/Indianapolis:20210414T120000
DTSTAMP:20260425T222655
CREATED:20230627T150623Z
LAST-MODIFIED:20230627T150623Z
UID:10000207-1618398000-1618401600@indychamber.com
SUMMARY:Business Ownership 101
DESCRIPTION:The Business Ownership 101 workshop conducted in partnership with SOURCE Entrepreneurship Center\, Inc outlines four critical stages of business development. It will help shape your business idea\, share a variety of resources in each stage\, and create next steps needed to launch and/or grow. The workshop will also give you time to ask questions and learn from others who are looking to launch a business. This is the first step on your path to becoming a successful business owner!
URL:https://indychamber.com/event/business-ownership-101-43/
LOCATION:Virtual Zoom Webinar\, United States
ATTACH;FMTTYPE=image/png:https://indychamber.com/wp-content/uploads/2022/12/Weird-Flex-but-OK-01-2.png
END:VEVENT
BEGIN:VEVENT
DTSTART;TZID=America/Indiana/Indianapolis:20210415T130000
DTEND;TZID=America/Indiana/Indianapolis:20210415T140000
DTSTAMP:20260425T222655
CREATED:20230627T150622Z
LAST-MODIFIED:20230627T150622Z
UID:10000206-1618491600-1618495200@indychamber.com
SUMMARY:Town Hall Series: New Locally Made Event in May
DESCRIPTION:Indianapolis native\, Mark Williams\, President and Executive Director of the Indianapolis Art Center\, knows the talent and resilience that resides in the Indianapolis Community. In partnership with Indy Jazz Fest\, the Indianapolis Art Center is looking forward to highlighting that talent by organizing Locally Made\, presented by One America\, a fully outdoor art festival with a focus on local creators and artisans. Hear from Williams and Michael Huber\, Indy Chamber’s President and CEO\, on safety protocols\, planned activities\, and what this means for our local businesses. \nBONUS VIRTUAL NETWORKING: Stick around following the Town Hall for your exclusive chance to meet other Indy Chamber members. This is a great opportunity to network and connect with leaders from the region.
URL:https://indychamber.com/event/town-hall-series-new-locally-made-event-in-may/
LOCATION:Virtual Zoom Webinar\, United States
ATTACH;FMTTYPE=image/png:https://indychamber.com/wp-content/uploads/2022/12/Weird-Flex-but-OK-01-2.png
END:VEVENT
BEGIN:VEVENT
DTSTART;TZID=America/Indiana/Indianapolis:20210415T190000
DTEND;TZID=America/Indiana/Indianapolis:20210415T210000
DTSTAMP:20260425T222655
CREATED:20230627T150622Z
LAST-MODIFIED:20230627T150622Z
UID:10000205-1618513200-1618520400@indychamber.com
SUMMARY:Women in Business Event Series - Virtual Film Screening
DESCRIPTION:Before you hear from accomplished\, engaging women at the Women in Business Retreat on June 3 – 4\, hear from another trailblazer\, Nichelle Nichols. Nicholas is best known for her portrayal of Lieutenant Uhura in Star Trek: The Original Series. In addition to her success onscreen\, at NASA’s request\, Nichols led a massive PR blitz\, which recruited more than 8\,000 of the nation’s best and brightest\, including the astronauts who became the first African American\, Asian and Latino men and women to fly in space. Watch the Woman in Motion trailer here! \nThe first 65 attendees who register for the virtual film screening of Woman in Motion\, will receive a complimentary snack box brought to you by Built Indiana\, a women-owned business and client of Central Indiana Women’s Business Center. This snack box will be filled with delicious Indiana products and feature women-owned businesses like Just Pop-In\, Tea’s Me Café\, and So Chatti! Already registered? All current registrants will be receiving the snack box and will be sent an email later this week to confirm shipping information. \nThanks to our partnership with Heartland Film\, the Women in Business Event series has gained exclusive access to screening Woman in Motion prior to its global streaming release. In an effort to accommodate all schedules\, registered attendees will be given access to begin streaming at 12p.m. EDT and will have 72 hours to begin watching. Once streaming has begun\, attendees will have 24 hours to conclude viewing. \nThis event is FREE for members\, $15 for non-members. \nBe sure to grab your popcorn and prepare for take off!
URL:https://indychamber.com/event/women-in-business-event-series-virtual-film-screening/
LOCATION:Content
ATTACH;FMTTYPE=image/png:https://indychamber.com/wp-content/uploads/2022/12/Weird-Flex-but-OK-01-2.png
END:VEVENT
BEGIN:VEVENT
DTSTART;TZID=America/Indiana/Indianapolis:20210416T090000
DTEND;TZID=America/Indiana/Indianapolis:20210416T100000
DTSTAMP:20260425T222655
CREATED:20230627T150622Z
LAST-MODIFIED:20230627T150622Z
UID:10000204-1618563600-1618567200@indychamber.com
SUMMARY:Powernet
DESCRIPTION:Networking at the Speed of Business \nPOWERNET IS HERE. Are you ready to connect with more than 100 business professionals from the Indy Region? It’s time to share your business story  and make connections with potential clients and partners! We’re excited for you to join fellow Indy Chamber members for this high-speed\, high-quality virtual networking event hosted by our Indy Chamber Ambassadors. This event is exclusive for Indy Chamber Members ONLY. \nWHAT OUR MEMBERS ARE SAYING: \n“Thanks to the Indy Chamber for hosting Powernet. I’ve set 5 meetings from it\, all very solid opportunities. I’m excited for more types of events like this.” \nPLEASE NOTE: \nPowernet starts at 9am and you must be on time to participate due to the breakout rooms we create for networking. The first breakout session will begin promptly at 9:05am. If you are late\, you will need to wait until the second breakout room starts\, or you can choose to join us next month. Thank you for your cooperation and understanding.
URL:https://indychamber.com/event/powernet-16/
LOCATION:Cards
ATTACH;FMTTYPE=image/png:https://indychamber.com/wp-content/uploads/2022/12/Weird-Flex-but-OK-01-2.png
END:VEVENT
BEGIN:VEVENT
DTSTART;TZID=America/Indiana/Indianapolis:20210421T100000
DTEND;TZID=America/Indiana/Indianapolis:20210421T110000
DTSTAMP:20260425T222655
CREATED:20230627T150621Z
LAST-MODIFIED:20230627T150621Z
UID:10000203-1618999200-1619002800@indychamber.com
SUMMARY:Spotlight On Fishers
DESCRIPTION:Join us for our first installment of our Spotlight On… Series where Indy Chamber CEO and President\, Michael Huber will sit down with Fishers Mayor\, Scott Fadness to discuss regional cooperation on mental health and crime. \nThe Spotlight On… Series was developed to provide insight on community projects\, future plans and overall insight on a nearby county’s community and from their mayor. \nBONUS VIRTUAL NETWORKING: Stick around following the event for your exclusive chance to meet other Indy Chamber members. This is a great opportunity to network and connect with leaders from the region.
URL:https://indychamber.com/event/spotlight-on-fishers/
LOCATION:Virtual Zoom Webinar\, United States
ATTACH;FMTTYPE=image/png:https://indychamber.com/wp-content/uploads/2022/12/Weird-Flex-but-OK-01-2.png
END:VEVENT
BEGIN:VEVENT
DTSTART;TZID=America/Indiana/Indianapolis:20210426T113000
DTEND;TZID=America/Indiana/Indianapolis:20210426T130000
DTSTAMP:20260425T222655
CREATED:20230627T150621Z
LAST-MODIFIED:20230627T150621Z
UID:10000202-1619436600-1619442000@indychamber.com
SUMMARY:Breakthrough Selling: Once You Put Your Sales Team Under a Microscope\, What Do You See?
DESCRIPTION:Once You Put Your Sales Team Under a Microscope\, What Do You See? \nNo matter what approach the company used\, there had to be some way to match the salesperson to the job. Smart hiring is about finding a candidate whose skills\, abilities\, and experiences match the job requirements. When under pressure to fill the position\, all too often\, managers hire the first candidate who “looks good” for one reason or another—typically relying on a ‘gut feeling’ and end up frustrated\, disappointed\, and working twice as hard at finding a replacement. \nJoin us as Indy Chamber’s VP of Membership Sales Ross Raifsnider and Trustpointe’s Tim Roberts explore the S.E.A.R.C.H model to identify best-fit talent and develop a plan to retain and grow top talent impact. \n 
URL:https://indychamber.com/event/breakthrough-selling-once-you-put-your-sales-team-under-a-microscope-what-do-you-see/
LOCATION:Cards
ATTACH;FMTTYPE=image/png:https://indychamber.com/wp-content/uploads/2022/12/Weird-Flex-but-OK-01-2.png
END:VEVENT
BEGIN:VEVENT
DTSTART;TZID=America/Indiana/Indianapolis:20210429T110000
DTEND;TZID=America/Indiana/Indianapolis:20210429T120000
DTSTAMP:20260425T222655
CREATED:20230627T150621Z
LAST-MODIFIED:20230627T150621Z
UID:10000201-1619694000-1619697600@indychamber.com
SUMMARY:Town Hall Series: Behind the Scenes at the Indianapolis Motor Speedway
DESCRIPTION:Tune in to the next installment of Indy Chamber’s Virtual Town Hall series to hear from J. Douglas Boles\, President of the Indianapolis Motor Speedway. The excitement of May is just around the corner\, and we know how much the community is eagerly anticipating the 105th Running of the Indianapolis 500 presented by Gainbridge! IMS\, the world’s largest spectator sporting facility\, has been the worldwide leader in motorsports entertainment for over a century. Doug Boles will give an inside look to the ongoing community efforts supporting COVID-19 response efforts and how the Race for Equality and Change Initiative is opening new doors for diverse communities. \nBONUS VIRTUAL NETWORKING: Stick around following the Town Hall for your exclusive chance to meet other Indy Chamber members. This is a great opportunity to network and connect with leaders from the region.
URL:https://indychamber.com/event/town-hall-series-behind-the-scenes-at-the-indianapolis-motor-speedway/
LOCATION:Virtual Zoom Webinar\, United States
ATTACH;FMTTYPE=image/png:https://indychamber.com/wp-content/uploads/2022/12/Weird-Flex-but-OK-01-2.png
END:VEVENT
BEGIN:VEVENT
DTSTART;TZID=America/Indiana/Indianapolis:20210429T130000
DTEND;TZID=America/Indiana/Indianapolis:20210429T140000
DTSTAMP:20260425T222655
CREATED:20230627T150620Z
LAST-MODIFIED:20230627T150620Z
UID:10000200-1619701200-1619704800@indychamber.com
SUMMARY:Business Ownership 101
DESCRIPTION:The Business Ownership 101 workshop conducted in partnership with SOURCE Entrepreneurship Center\, Inc outlines four critical stages of business development. It will help shape your business idea\, share a variety of resources in each stage\, and create next steps needed to launch and/or grow. The workshop will also give you time to ask questions and learn from others who are looking to launch a business. This is the first step on your path to becoming a successful business owner!
URL:https://indychamber.com/event/business-ownership-101-42/
LOCATION:Virtual Zoom Webinar\, United States
ATTACH;FMTTYPE=image/png:https://indychamber.com/wp-content/uploads/2022/12/Weird-Flex-but-OK-01-2.png
END:VEVENT
END:VCALENDAR