BEGIN:VCALENDAR
VERSION:2.0
PRODID:-//Indy Chamber - ECPv6.15.20//NONSGML v1.0//EN
CALSCALE:GREGORIAN
METHOD:PUBLISH
X-WR-CALNAME:Indy Chamber
X-ORIGINAL-URL:https://indychamber.com
X-WR-CALDESC:Events for Indy Chamber
REFRESH-INTERVAL;VALUE=DURATION:PT1H
X-Robots-Tag:noindex
X-PUBLISHED-TTL:PT1H
BEGIN:VTIMEZONE
TZID:America/Indiana/Indianapolis
BEGIN:DAYLIGHT
TZOFFSETFROM:-0500
TZOFFSETTO:-0400
TZNAME:EDT
DTSTART:20200308T070000
END:DAYLIGHT
BEGIN:STANDARD
TZOFFSETFROM:-0400
TZOFFSETTO:-0500
TZNAME:EST
DTSTART:20201101T060000
END:STANDARD
BEGIN:DAYLIGHT
TZOFFSETFROM:-0500
TZOFFSETTO:-0400
TZNAME:EDT
DTSTART:20210314T070000
END:DAYLIGHT
BEGIN:STANDARD
TZOFFSETFROM:-0400
TZOFFSETTO:-0500
TZNAME:EST
DTSTART:20211107T060000
END:STANDARD
BEGIN:DAYLIGHT
TZOFFSETFROM:-0500
TZOFFSETTO:-0400
TZNAME:EDT
DTSTART:20220313T070000
END:DAYLIGHT
BEGIN:STANDARD
TZOFFSETFROM:-0400
TZOFFSETTO:-0500
TZNAME:EST
DTSTART:20221106T060000
END:STANDARD
END:VTIMEZONE
BEGIN:VEVENT
DTSTART;TZID=America/Indiana/Indianapolis:20210309T090000
DTEND;TZID=America/Indiana/Indianapolis:20210309T100000
DTSTAMP:20260419T122709
CREATED:20230627T150626Z
LAST-MODIFIED:20230627T150626Z
UID:10000216-1615280400-1615284000@indychamber.com
SUMMARY:CEO Roundtable Series
DESCRIPTION:Join us for our first virtual CEO Roundtable of this year on March 9th at 9am. Want to know where our issues stand half-way through the 2021 legislative session? We’ll be diving into the session dynamics where COVID-19 liability challenges\, the debate on police reform\, the evergreen topic of redistricting\, and other big issues are taking center stage. Join Mark Fisher\, Chief Policy Officer of the Indy Chamber\, for a behind the scenes breakdown of the 2021 session with Michael Huber\, President and CEO of the Indy Chamber\, as host. \nCEO Roundtable events were created exclusively for CEOs of Indy Chamber members at our premium membership levels. Registration for CEO Roundtable events are by invitation-only and are non-transferable. If you’d like to speak with a sales representative to upgrade your membership to be able to attend CEO Roundtable Series events\, fill out the form below or reach out to our team today. \n  \n 
URL:https://indychamber.com/event/ceo-roundtable-series-2/
LOCATION:Cards
ATTACH;FMTTYPE=image/png:https://indychamber.com/wp-content/uploads/2022/12/Weird-Flex-but-OK-01-2.png
END:VEVENT
END:VCALENDAR