BEGIN:VCALENDAR
VERSION:2.0
PRODID:-//Indy Chamber - ECPv6.15.20//NONSGML v1.0//EN
CALSCALE:GREGORIAN
METHOD:PUBLISH
X-ORIGINAL-URL:https://indychamber.com
X-WR-CALDESC:Events for Indy Chamber
REFRESH-INTERVAL;VALUE=DURATION:PT1H
X-Robots-Tag:noindex
X-PUBLISHED-TTL:PT1H
BEGIN:VTIMEZONE
TZID:America/Indiana/Indianapolis
BEGIN:DAYLIGHT
TZOFFSETFROM:-0500
TZOFFSETTO:-0400
TZNAME:EDT
DTSTART:20250309T070000
END:DAYLIGHT
BEGIN:STANDARD
TZOFFSETFROM:-0400
TZOFFSETTO:-0500
TZNAME:EST
DTSTART:20251102T060000
END:STANDARD
BEGIN:DAYLIGHT
TZOFFSETFROM:-0500
TZOFFSETTO:-0400
TZNAME:EDT
DTSTART:20260308T070000
END:DAYLIGHT
BEGIN:STANDARD
TZOFFSETFROM:-0400
TZOFFSETTO:-0500
TZNAME:EST
DTSTART:20261101T060000
END:STANDARD
BEGIN:DAYLIGHT
TZOFFSETFROM:-0500
TZOFFSETTO:-0400
TZNAME:EDT
DTSTART:20270314T070000
END:DAYLIGHT
BEGIN:STANDARD
TZOFFSETFROM:-0400
TZOFFSETTO:-0500
TZNAME:EST
DTSTART:20271107T060000
END:STANDARD
END:VTIMEZONE
BEGIN:VEVENT
DTSTART;TZID=America/Indiana/Indianapolis:20261202T113000
DTEND;TZID=America/Indiana/Indianapolis:20261202T130000
DTSTAMP:20260423T045650
CREATED:20251119T211106Z
LAST-MODIFIED:20260228T164541Z
UID:10000508-1796211000-1796216400@indychamber.com
SUMMARY:Small Group Lunch
DESCRIPTION:Meet a small group of Indy Chamber members for lunch! \nAre you seeking a chance to connect with a small group of fellow Indy Chamber members to exchange ideas and broaden your network? This is the perfect opportunity for you. Register now for this intimate lunch hosted by a Indy Chamber member.  \nRegistration opening in Q3 of 2026.
URL:https://indychamber.com/event/small-group-lunch-dec2026/
CATEGORIES:In-Person Event,Members Only
ATTACH;FMTTYPE=image/png:https://indychamber.com/wp-content/uploads/2025/11/Header_SmallGroupLunch_11.11.25.png
END:VEVENT
BEGIN:VEVENT
DTSTART;TZID=America/Indiana/Indianapolis:20261208T090000
DTEND;TZID=America/Indiana/Indianapolis:20261208T100000
DTSTAMP:20260423T045650
CREATED:20251119T211316Z
LAST-MODIFIED:20251119T211316Z
UID:10000510-1796720400-1796724000@indychamber.com
SUMMARY:Member Orientation
DESCRIPTION:Jumpstart or re-start your Indy Chamber membership. \nAttend this event to gain insights into the Indy Chamber’s mission\, vision\, impact\, and how to maximize your benefits. Discover strategies to broaden your prospect pool\, save money\, and finance your business. You’ll also get the opportunity to introduce yourself to approximately 25 new members. See you there!  \nRegistration opening in Q3 of 2026.
URL:https://indychamber.com/event/member-orientation-dec2026/
LOCATION:Virtual Event
CATEGORIES:Members Only,Virtual Event
ATTACH;FMTTYPE=image/png:https://indychamber.com/wp-content/uploads/2025/11/Header_MemberOrientation_11.11.25.png
END:VEVENT
END:VCALENDAR