BEGIN:VCALENDAR
VERSION:2.0
PRODID:-//Indy Chamber - ECPv6.15.20//NONSGML v1.0//EN
CALSCALE:GREGORIAN
METHOD:PUBLISH
X-WR-CALNAME:Indy Chamber
X-ORIGINAL-URL:https://indychamber.com
X-WR-CALDESC:Events for Indy Chamber
REFRESH-INTERVAL;VALUE=DURATION:PT1H
X-Robots-Tag:noindex
X-PUBLISHED-TTL:PT1H
BEGIN:VTIMEZONE
TZID:America/Indiana/Indianapolis
BEGIN:DAYLIGHT
TZOFFSETFROM:-0500
TZOFFSETTO:-0400
TZNAME:EDT
DTSTART:20220313T070000
END:DAYLIGHT
BEGIN:STANDARD
TZOFFSETFROM:-0400
TZOFFSETTO:-0500
TZNAME:EST
DTSTART:20221106T060000
END:STANDARD
BEGIN:DAYLIGHT
TZOFFSETFROM:-0500
TZOFFSETTO:-0400
TZNAME:EDT
DTSTART:20230312T070000
END:DAYLIGHT
BEGIN:STANDARD
TZOFFSETFROM:-0400
TZOFFSETTO:-0500
TZNAME:EST
DTSTART:20231105T060000
END:STANDARD
BEGIN:DAYLIGHT
TZOFFSETFROM:-0500
TZOFFSETTO:-0400
TZNAME:EDT
DTSTART:20240310T070000
END:DAYLIGHT
BEGIN:STANDARD
TZOFFSETFROM:-0400
TZOFFSETTO:-0500
TZNAME:EST
DTSTART:20241103T060000
END:STANDARD
END:VTIMEZONE
BEGIN:VEVENT
DTSTART;TZID=America/Indiana/Indianapolis:20230908T100000
DTEND;TZID=America/Indiana/Indianapolis:20230908T110000
DTSTAMP:20260420T035804
CREATED:20230427T102717Z
LAST-MODIFIED:20230427T102717Z
UID:10000051-1694167200-1694170800@indychamber.com
SUMMARY:Member Orientation
DESCRIPTION:Jumpstart or re-start your Indy Chamber membership.  \nWe’ll provide an overview of the Indy Chamber\, information on how best to leverage your benefits\, and networking tips to help you be strategic and successful while making business connections in the nine-county region. Who should attend? Executive team\, marketing\, sales\, HR professionals\, and anyone who wants to support growth – yours and our region’s.  \nThis event is exclusive to Indy Chamber members ONLY. 
URL:https://indychamber.com/event/september-member-orientation/
LOCATION:Cards
CATEGORIES:Members Only,Virtual Event
ATTACH;FMTTYPE=:
END:VEVENT
BEGIN:VEVENT
DTSTART;TZID=America/Indiana/Indianapolis:20230922T100000
DTEND;TZID=America/Indiana/Indianapolis:20230922T110000
DTSTAMP:20260420T035804
CREATED:20230427T103242Z
LAST-MODIFIED:20230427T103242Z
UID:10000054-1695376800-1695380400@indychamber.com
SUMMARY:Powernet
DESCRIPTION:Speed networking for businesses.  \nAre you ready to connect with 15-20 members in one short hour? Powernet is a high-speed\, high-quality virtual speed networking event hosted by our Indy Chamber Ambassadors. It’s the perfect opportunity to share your business story and make connections with potential clients and partners!  \nPLEASE NOTE: Powernet starts at 10 a.m. You must be on time to participate due to the breakout rooms we create for networking. The first breakout session will begin promptly at 10:05 a.m. If you are late\, you may either wait until the second breakout room begins or choose to join us next month. Thank you for your cooperation and understanding.  \nThis event is exclusive to Indy Chamber members ONLY. 
URL:https://indychamber.com/event/powernet/
LOCATION:Cards
CATEGORIES:Members Only,Virtual Event
ATTACH;FMTTYPE=:
END:VEVENT
BEGIN:VEVENT
DTSTART;TZID=America/Indiana/Indianapolis:20230925T113000
DTEND;TZID=America/Indiana/Indianapolis:20230925T130000
DTSTAMP:20260420T035804
CREATED:20230427T100540Z
LAST-MODIFIED:20230427T100540Z
UID:10000038-1695641400-1695646800@indychamber.com
SUMMARY:Breakthrough Selling
DESCRIPTION:Are you on the hunt for sustained sales momentum? If you answered yes\, then we have just the training for you! Join the Indy Chamber and Trustpointe for lunch and an opportunity to improve processes\, personal performance\, and results to become the high-achieving sales professional you’ve been striving to be.  \nSEPTEMBER TOPIC: The Mindful Sales Leader \nThe business world is abuzz with the concept of mindfulness. So\, what does it mean\, and how can you use it to create new energy in your sales career? In this session\, the Trustpointe Team will discuss mindfulness best practices and the why behind the how\, and how\, during these critical business moments\, sales leaders can use mindfulness to become better leaders\, sales coaches\, and business partners.
URL:https://indychamber.com/event/breakthrough-selling-6/
LOCATION:Items
CATEGORIES:Members Only,Workshop
ATTACH;FMTTYPE=:
END:VEVENT
END:VCALENDAR