BEGIN:VCALENDAR
VERSION:2.0
PRODID:-//Indy Chamber - ECPv6.15.20//NONSGML v1.0//EN
CALSCALE:GREGORIAN
METHOD:PUBLISH
X-ORIGINAL-URL:https://indychamber.com
X-WR-CALDESC:Events for Indy Chamber
REFRESH-INTERVAL;VALUE=DURATION:PT1H
X-Robots-Tag:noindex
X-PUBLISHED-TTL:PT1H
BEGIN:VTIMEZONE
TZID:America/Indiana/Indianapolis
BEGIN:DAYLIGHT
TZOFFSETFROM:-0500
TZOFFSETTO:-0400
TZNAME:EDT
DTSTART:20220313T070000
END:DAYLIGHT
BEGIN:STANDARD
TZOFFSETFROM:-0400
TZOFFSETTO:-0500
TZNAME:EST
DTSTART:20221106T060000
END:STANDARD
BEGIN:DAYLIGHT
TZOFFSETFROM:-0500
TZOFFSETTO:-0400
TZNAME:EDT
DTSTART:20230312T070000
END:DAYLIGHT
BEGIN:STANDARD
TZOFFSETFROM:-0400
TZOFFSETTO:-0500
TZNAME:EST
DTSTART:20231105T060000
END:STANDARD
BEGIN:DAYLIGHT
TZOFFSETFROM:-0500
TZOFFSETTO:-0400
TZNAME:EDT
DTSTART:20240310T070000
END:DAYLIGHT
BEGIN:STANDARD
TZOFFSETFROM:-0400
TZOFFSETTO:-0500
TZNAME:EST
DTSTART:20241103T060000
END:STANDARD
END:VTIMEZONE
BEGIN:VEVENT
DTSTART;TZID=America/Indiana/Indianapolis:20230607T100000
DTEND;TZID=America/Indiana/Indianapolis:20230607T110000
DTSTAMP:20260422T084442
CREATED:20221215T114753Z
LAST-MODIFIED:20221215T114753Z
UID:10000004-1686132000-1686135600@indychamber.com
SUMMARY:June Member Orientation
DESCRIPTION:Jumpstart or re-start your Indy Chamber membership.\nWe’ll provide an overview of the Indy Chamber\, information on how best to leverage your benefits\, and networking tips to help you be strategic and successful while making business connections in the nine-county region. Who should attend? Executive team\, marketing\, sales\, HR professionals\, and anyone who wants to support growth – yours and our region’s. \nThis event is exclusive to Indy Chamber members ONLY.
URL:https://indychamber.com/event/member-orientation/
LOCATION:Cards
CATEGORIES:Members Only,Virtual Event
ATTACH;FMTTYPE=:
END:VEVENT
BEGIN:VEVENT
DTSTART;TZID=America/Indiana/Indianapolis:20230622T160000
DTEND;TZID=America/Indiana/Indianapolis:20230622T180000
DTSTAMP:20260422T084442
CREATED:20221215T114143Z
LAST-MODIFIED:20221215T114143Z
UID:10000002-1687449600-1687456800@indychamber.com
SUMMARY:Women in Business Event Series
DESCRIPTION:The Indy Chamber’s mission is to empower businesses to ensure all have the opportunity to succeed in the Indianapolis region. \nThe Business Ownership Initiative and the CIWBC are critical business development drivers for those without a traditional path to entrepreneurial success. The CIWBC focuses on leveling the playing field for women- and minority-owned businesses and entrepreneurs in underserved communities. Please take this opportunity to network with women at all levels at our next Women in Business event.  \nWe look forward to providing ongoing opportunities to expand your women in business network.
URL:https://indychamber.com/event/women-in-business-event-series/
LOCATION:IN
CATEGORIES:Members Only,Women in Business
ATTACH;FMTTYPE=:
END:VEVENT
END:VCALENDAR