BEGIN:VCALENDAR
VERSION:2.0
PRODID:-//Indy Chamber - ECPv6.15.20//NONSGML v1.0//EN
CALSCALE:GREGORIAN
METHOD:PUBLISH
X-WR-CALNAME:Indy Chamber
X-ORIGINAL-URL:https://indychamber.com
X-WR-CALDESC:Events for Indy Chamber
REFRESH-INTERVAL;VALUE=DURATION:PT1H
X-Robots-Tag:noindex
X-PUBLISHED-TTL:PT1H
BEGIN:VTIMEZONE
TZID:America/Indiana/Indianapolis
BEGIN:DAYLIGHT
TZOFFSETFROM:-0500
TZOFFSETTO:-0400
TZNAME:EDT
DTSTART:20220313T070000
END:DAYLIGHT
BEGIN:STANDARD
TZOFFSETFROM:-0400
TZOFFSETTO:-0500
TZNAME:EST
DTSTART:20221106T060000
END:STANDARD
BEGIN:DAYLIGHT
TZOFFSETFROM:-0500
TZOFFSETTO:-0400
TZNAME:EDT
DTSTART:20230312T070000
END:DAYLIGHT
BEGIN:STANDARD
TZOFFSETFROM:-0400
TZOFFSETTO:-0500
TZNAME:EST
DTSTART:20231105T060000
END:STANDARD
BEGIN:DAYLIGHT
TZOFFSETFROM:-0500
TZOFFSETTO:-0400
TZNAME:EDT
DTSTART:20240310T070000
END:DAYLIGHT
BEGIN:STANDARD
TZOFFSETFROM:-0400
TZOFFSETTO:-0500
TZNAME:EST
DTSTART:20241103T060000
END:STANDARD
END:VTIMEZONE
BEGIN:VEVENT
DTSTART;TZID=America/Indiana/Indianapolis:20230503T100000
DTEND;TZID=America/Indiana/Indianapolis:20230503T110000
DTSTAMP:20260422T101057
CREATED:20221215T120318Z
LAST-MODIFIED:20221215T120318Z
UID:10000008-1683108000-1683111600@indychamber.com
SUMMARY:May Member Orientation
DESCRIPTION:Jumpstart or re-start your Indy Chamber membership.\nWe’ll provide an overview of the Indy Chamber\, information on how best to leverage your benefits\, and networking tips to help you be strategic and successful while making business connections in the nine-county region. Who should attend? Executive team\, marketing\, sales\, HR professionals\, and anyone who wants to support growth – yours and our region’s. \nThis event is exclusive to Indy Chamber members ONLY.
URL:https://indychamber.com/event/may-member-orientation/
LOCATION:Cards
CATEGORIES:Members Only,Virtual Event
ATTACH;FMTTYPE=:
END:VEVENT
BEGIN:VEVENT
DTSTART;TZID=America/Indiana/Indianapolis:20230503T160000
DTEND;TZID=America/Indiana/Indianapolis:20230503T180000
DTSTAMP:20260422T101057
CREATED:20221215T120636Z
LAST-MODIFIED:20221215T120636Z
UID:10000007-1683129600-1683136800@indychamber.com
SUMMARY:Lagers & Leaders
DESCRIPTION:Grab a pint with fellow Indy Chamber members and leaders from the Indy region at our next installment of Lagers & Leaders. It’s bound to be a hoppin’ good time! \nThis event is exclusive to Indy Chamber members ONLY.
URL:https://indychamber.com/event/lagers-leaders/
LOCATION:IN
CATEGORIES:Members Only
ATTACH;FMTTYPE=:
END:VEVENT
BEGIN:VEVENT
DTSTART;TZID=America/Indiana/Indianapolis:20230518T150000
DTEND;TZID=America/Indiana/Indianapolis:20230518T173000
DTSTAMP:20260422T101057
CREATED:20221215T121213Z
LAST-MODIFIED:20221215T121213Z
UID:10000010-1684422000-1684431000@indychamber.com
SUMMARY:BEI Procurement Roundtable Supplier Meet & Greet
DESCRIPTION:You are warmly invited to our next installment of Business Equity for Indy (BEI) Procurement Roundtable Supplier Meet & Greet.\nJoin us for networking\, food\, and opportunities to strengthen your supplier diversity. The workshop is free for businesses of all sizes to attend and takes place in person at Eli Lilly on Thursday\, May 18\, from 3 to 5:30 p.m. \nThe Business Equity for Indy (BEI) Procurement Roundtable is focused on increasing the launch\, growth\, and success rates of Black-owned enterprises by facilitating relationships\, creating opportunities\, and positioning suppliers to gain access to new business contracts. This in-person event will feature Black-owned suppliers who will briefly give a presentation of their business. \nFollowing\, attendees will have an opportunity to further engage suppliers and network with all attendees – so bring your business cards! Light refreshments\, wine\, and soda will be served. Join the BEI Procurement Roundtable for networking\, food\, and opportunity by registering today. \nInterested in learning more?\nThe BEI partners are currently developing several additional opportunities for organizations to join the effort to advance racial equity across the Indy Region. If Procurement & Participation is not your preferred area at this time\, or if you would be interested in additional opportunities to engage with BEI\, please contact Stacia Murphy or Taylor Hughes.
URL:https://indychamber.com/event/bei-procurement-roundtable-supplier-meet-greet/
LOCATION:IN
CATEGORIES:Business Equity for Indy,Members Only
ATTACH;FMTTYPE=:
END:VEVENT
END:VCALENDAR